BEGIN:VCALENDAR
VERSION:2.0
PRODID:-//West Virginia State Parks - ECPv6.15.17.1//NONSGML v1.0//EN
CALSCALE:GREGORIAN
METHOD:PUBLISH
X-WR-CALNAME:West Virginia State Parks
X-ORIGINAL-URL:https://wvstateparks.com
X-WR-CALDESC:Events for West Virginia State Parks
REFRESH-INTERVAL;VALUE=DURATION:PT1H
X-Robots-Tag:noindex
X-PUBLISHED-TTL:PT1H
BEGIN:VTIMEZONE
TZID:America/New_York
BEGIN:DAYLIGHT
TZOFFSETFROM:-0500
TZOFFSETTO:-0400
TZNAME:EDT
DTSTART:20220313T070000
END:DAYLIGHT
BEGIN:STANDARD
TZOFFSETFROM:-0400
TZOFFSETTO:-0500
TZNAME:EST
DTSTART:20221106T060000
END:STANDARD
BEGIN:DAYLIGHT
TZOFFSETFROM:-0500
TZOFFSETTO:-0400
TZNAME:EDT
DTSTART:20230312T070000
END:DAYLIGHT
BEGIN:STANDARD
TZOFFSETFROM:-0400
TZOFFSETTO:-0500
TZNAME:EST
DTSTART:20231105T060000
END:STANDARD
BEGIN:DAYLIGHT
TZOFFSETFROM:-0500
TZOFFSETTO:-0400
TZNAME:EDT
DTSTART:20240310T070000
END:DAYLIGHT
BEGIN:STANDARD
TZOFFSETFROM:-0400
TZOFFSETTO:-0500
TZNAME:EST
DTSTART:20241103T060000
END:STANDARD
END:VTIMEZONE
BEGIN:VEVENT
DTSTART;TZID=America/New_York:20230819T103000
DTEND;TZID=America/New_York:20230819T120000
DTSTAMP:20260419T134001
CREATED:20230426T220054Z
LAST-MODIFIED:20230426T220055Z
UID:26827-1692441000-1692446400@wvstateparks.com
SUMMARY:World Honeybee Day: Cacapon
DESCRIPTION:August 19\, 2023 will have other activities planned through the day and weekend. However\, a program about Honeybees warrants a solo post. We invite you join us at Cacapon Resort State Park for this ‘live-bee’ program. While you’re visiting checkout Cacapon’s flora meadows/pollinator habitat and our pollinator zone at the nature center. \n10:30 AMA Honeybee Hive & ProgramJoin this free presentation by David Martz owner of Double D’s Bees and learn all about beekeeping\, bee products\, and see a live beehive! Meet at Park Gazebo\, near the nature center. There is no charge to attend. \nIf you have considered keeping bees\, Martz appreciates folks asking questions to get started. It is a rare opportunity for attendees to see bees working as part of the program. Double D’s Bees is a local beekeeper/farm in Hedgesville\, WV. \nAbout World Honeybee DayWorld Honey Bee Day is celebrated every third Saturday in August. \nFor more information email Valerie.L.Chaney@wv.gov. \nReserve lodging: \nBook Now
URL:https://wvstateparks.com/event/world-honeybee-day-cacapon/
LOCATION:Cacapon Resort State Park\, United States
END:VEVENT
END:VCALENDAR