BEGIN:VCALENDAR
VERSION:2.0
PRODID:-//West Virginia State Parks - ECPv6.15.17.1//NONSGML v1.0//EN
CALSCALE:GREGORIAN
METHOD:PUBLISH
X-WR-CALNAME:West Virginia State Parks
X-ORIGINAL-URL:https://wvstateparks.com
X-WR-CALDESC:Events for West Virginia State Parks
REFRESH-INTERVAL;VALUE=DURATION:PT1H
X-Robots-Tag:noindex
X-PUBLISHED-TTL:PT1H
BEGIN:VTIMEZONE
TZID:America/New_York
BEGIN:DAYLIGHT
TZOFFSETFROM:-0500
TZOFFSETTO:-0400
TZNAME:EDT
DTSTART:20220313T070000
END:DAYLIGHT
BEGIN:STANDARD
TZOFFSETFROM:-0400
TZOFFSETTO:-0500
TZNAME:EST
DTSTART:20221106T060000
END:STANDARD
BEGIN:DAYLIGHT
TZOFFSETFROM:-0500
TZOFFSETTO:-0400
TZNAME:EDT
DTSTART:20230312T070000
END:DAYLIGHT
BEGIN:STANDARD
TZOFFSETFROM:-0400
TZOFFSETTO:-0500
TZNAME:EST
DTSTART:20231105T060000
END:STANDARD
BEGIN:DAYLIGHT
TZOFFSETFROM:-0500
TZOFFSETTO:-0400
TZNAME:EDT
DTSTART:20240310T070000
END:DAYLIGHT
BEGIN:STANDARD
TZOFFSETFROM:-0400
TZOFFSETTO:-0500
TZNAME:EST
DTSTART:20241103T060000
END:STANDARD
END:VTIMEZONE
BEGIN:VEVENT
DTSTART;TZID=America/New_York:20230702T190000
DTEND;TZID=America/New_York:20230702T203000
DTSTAMP:20260421T072258
CREATED:20230127T171946Z
LAST-MODIFIED:20230127T171947Z
UID:26633-1688324400-1688329800@wvstateparks.com
SUMMARY:Wings of Wonder-Birds of Prey: Watoga
DESCRIPTION:Live birds of prey at Watoga State Park are presented by the Three Rivers Avian Center (TRAC) on Sunday\, July 2\, 2023 at 7:00 p.m. The educational birds are a great opportunity to learn what birds say “who cooks for me\, who cooks for you all?” as well as meeting other raptors. \nPrograms such as Wings of Wonder are part of the Dark Sky certification requirements to maintain national status. We hope you enjoy these nature based and evening programs that keep us looking up into the night sky. \nThis evening program is all about raptors native to West Virginia: hawks\, eagles\, falcons\, and owls. You’ll learn about the habitat\, diet and behavior of each bird presented\, the most common causes of injury to each species and the laws protecting these special birds. \nThere is no fee to attend. Open to the public\, the program lasts about an hour and is staged in the Activity Building at Watoga State Park. Questions are welcomed. This is a family friendly event. Join us for this evening with the raptors with your host Lora Moran and guests Three Rivers Avian Center and the educational raptors. \nReserve lodging: \nBook Now
URL:https://wvstateparks.com/event/wings-of-wonder-birds-of-prey-watoga-2/
LOCATION:Watoga State Park\, United States
END:VEVENT
END:VCALENDAR