BEGIN:VCALENDAR
VERSION:2.0
PRODID:-//West Virginia State Parks - ECPv6.15.17.1//NONSGML v1.0//EN
CALSCALE:GREGORIAN
METHOD:PUBLISH
X-WR-CALNAME:West Virginia State Parks
X-ORIGINAL-URL:https://wvstateparks.com
X-WR-CALDESC:Events for West Virginia State Parks
REFRESH-INTERVAL;VALUE=DURATION:PT1H
X-Robots-Tag:noindex
X-PUBLISHED-TTL:PT1H
BEGIN:VTIMEZONE
TZID:America/New_York
BEGIN:DAYLIGHT
TZOFFSETFROM:-0500
TZOFFSETTO:-0400
TZNAME:EDT
DTSTART:20220313T070000
END:DAYLIGHT
BEGIN:STANDARD
TZOFFSETFROM:-0400
TZOFFSETTO:-0500
TZNAME:EST
DTSTART:20221106T060000
END:STANDARD
BEGIN:DAYLIGHT
TZOFFSETFROM:-0500
TZOFFSETTO:-0400
TZNAME:EDT
DTSTART:20230312T070000
END:DAYLIGHT
BEGIN:STANDARD
TZOFFSETFROM:-0400
TZOFFSETTO:-0500
TZNAME:EST
DTSTART:20231105T060000
END:STANDARD
BEGIN:DAYLIGHT
TZOFFSETFROM:-0500
TZOFFSETTO:-0400
TZNAME:EDT
DTSTART:20240310T070000
END:DAYLIGHT
BEGIN:STANDARD
TZOFFSETFROM:-0400
TZOFFSETTO:-0500
TZNAME:EST
DTSTART:20241103T060000
END:STANDARD
END:VTIMEZONE
BEGIN:VEVENT
DTSTART;TZID=America/New_York:20230618T160000
DTEND;TZID=America/New_York:20230618T170000
DTSTAMP:20260419T134417
CREATED:20230324T204206Z
LAST-MODIFIED:20230324T204207Z
UID:26763-1687104000-1687107600@wvstateparks.com
SUMMARY:Wings of Wonder-Birds of Prey: Canaan Valley
DESCRIPTION:If you missed the Live birds of prey at Blackwater Falls State Park on June 17\, visit Canaan Valley Resort on June 18\, 2023 for an encore presentation. \nThree Rivers Avian Center (TRAC) will be at Canaan Valley on Sunday\, June 18 2023 at 4:00 p.m. The educational birds are a great opportunity to learn what birds say “who cooks for me\, who cooks for you all?” as well as meeting other raptors. \nThis afternoon program is all about raptors native to West Virginia: hawks\, eagles\, falcons\, and owls. You’ll learn about the habitat\, diet and behavior of each bird presented\, the most common causes of injury to each species and the laws protecting these special birds. \nThere is no fee to attend. Open to the public\, the program lasts about an hour and is staged in the Canaan Valley Lodge. Questions are welcomed. This is a family friendly event. An excellent presentation for all ages. Join us for this evening with the raptors with your host\, Dave Vance and park guests Three Rivers Avian Center and the educational raptors. \nReserve lodging: \nBook Now
URL:https://wvstateparks.com/event/wings-of-wonder-birds-of-prey-canaan-valley/
LOCATION:Canaan Valley Resort State Park\, 230 Main Lodge Rd\, Davis\, WV\, 26260\, United States
END:VEVENT
END:VCALENDAR