BEGIN:VCALENDAR
VERSION:2.0
PRODID:-//West Virginia State Parks - ECPv6.15.17.1//NONSGML v1.0//EN
CALSCALE:GREGORIAN
METHOD:PUBLISH
X-WR-CALNAME:West Virginia State Parks
X-ORIGINAL-URL:https://wvstateparks.com
X-WR-CALDESC:Events for West Virginia State Parks
REFRESH-INTERVAL;VALUE=DURATION:PT1H
X-Robots-Tag:noindex
X-PUBLISHED-TTL:PT1H
BEGIN:VTIMEZONE
TZID:America/New_York
BEGIN:DAYLIGHT
TZOFFSETFROM:-0500
TZOFFSETTO:-0400
TZNAME:EDT
DTSTART:20220313T070000
END:DAYLIGHT
BEGIN:STANDARD
TZOFFSETFROM:-0400
TZOFFSETTO:-0500
TZNAME:EST
DTSTART:20221106T060000
END:STANDARD
BEGIN:DAYLIGHT
TZOFFSETFROM:-0500
TZOFFSETTO:-0400
TZNAME:EDT
DTSTART:20230312T070000
END:DAYLIGHT
BEGIN:STANDARD
TZOFFSETFROM:-0400
TZOFFSETTO:-0500
TZNAME:EST
DTSTART:20231105T060000
END:STANDARD
BEGIN:DAYLIGHT
TZOFFSETFROM:-0500
TZOFFSETTO:-0400
TZNAME:EDT
DTSTART:20240310T070000
END:DAYLIGHT
BEGIN:STANDARD
TZOFFSETFROM:-0400
TZOFFSETTO:-0500
TZNAME:EST
DTSTART:20241103T060000
END:STANDARD
END:VTIMEZONE
BEGIN:VEVENT
DTSTART;TZID=America/New_York:20230819T000000
DTEND;TZID=America/New_York:20230819T235959
DTSTAMP:20260419T133856
CREATED:20230425T170528Z
LAST-MODIFIED:20230425T172952Z
UID:26812-1692403200-1692489599@wvstateparks.com
SUMMARY:Wild Turkey Trail Run: Valley Falls
DESCRIPTION:Join a Free Trail Race at Valley Falls State Park on August 19\, 2023 at 8:00AM. \n\n\n\nThis race is FREE!  We’ll provide food and drinks\, but bring some of your own fuel as well. Our aid station is under a large park shelter right next to the parking area so you can also use your car as an aid station! We have some free giveaways for finishers (fun homemade medals)! The course is a ~10 mile figure 8 loop with a single aid station in the middle (see link to loop on Garmin and course map on the website listed below). Elevation gain is 1500 ft per loop. \n\n\n\nThis is a West Virginia Mountain Trail Runners event sponsored by and open to the public. Learn more at the website about location\, start times\, different race distances\, course information and the fun planned. \n\n\n\nRegister: \n\n\n\nhttps://runsignup.com/Race/WV/Fairmont/ValleyFallsFunRun
URL:https://wvstateparks.com/event/wild-turkey-trail-run-valley-falls/
LOCATION:Valley Falls State Park\, 720 Valley Falls Rd.\, Fairmont\, WV\, 26554\, United States
END:VEVENT
END:VCALENDAR