BEGIN:VCALENDAR
VERSION:2.0
PRODID:-//West Virginia State Parks - ECPv6.15.17.1//NONSGML v1.0//EN
CALSCALE:GREGORIAN
METHOD:PUBLISH
X-WR-CALNAME:West Virginia State Parks
X-ORIGINAL-URL:https://wvstateparks.com
X-WR-CALDESC:Events for West Virginia State Parks
REFRESH-INTERVAL;VALUE=DURATION:PT1H
X-Robots-Tag:noindex
X-PUBLISHED-TTL:PT1H
BEGIN:VTIMEZONE
TZID:America/New_York
BEGIN:DAYLIGHT
TZOFFSETFROM:-0500
TZOFFSETTO:-0400
TZNAME:EDT
DTSTART:20220313T070000
END:DAYLIGHT
BEGIN:STANDARD
TZOFFSETFROM:-0400
TZOFFSETTO:-0500
TZNAME:EST
DTSTART:20221106T060000
END:STANDARD
BEGIN:DAYLIGHT
TZOFFSETFROM:-0500
TZOFFSETTO:-0400
TZNAME:EDT
DTSTART:20230312T070000
END:DAYLIGHT
BEGIN:STANDARD
TZOFFSETFROM:-0400
TZOFFSETTO:-0500
TZNAME:EST
DTSTART:20231105T060000
END:STANDARD
BEGIN:DAYLIGHT
TZOFFSETFROM:-0500
TZOFFSETTO:-0400
TZNAME:EDT
DTSTART:20240310T070000
END:DAYLIGHT
BEGIN:STANDARD
TZOFFSETFROM:-0400
TZOFFSETTO:-0500
TZNAME:EST
DTSTART:20241103T060000
END:STANDARD
END:VTIMEZONE
BEGIN:VEVENT
DTSTART;TZID=America/New_York:20230805T090000
DTEND;TZID=America/New_York:20230805T140000
DTSTAMP:20260419T152907
CREATED:20230404T011333Z
LAST-MODIFIED:20230404T011334Z
UID:26782-1691226000-1691244000@wvstateparks.com
SUMMARY:Walk Between the Parks: Canaan Valley
DESCRIPTION:The eight mile “Walk Between the Parks” is scheduled for August 5\, 2023 from 9:00AM and should conclude around 2:00PM at Canaan Valley Resort State Park. The registration fee includes shuttle service from Canaan Valley Resort State Park. Registration fee is $15 for adults and $10 for children (6-12) \nPre-registration is recommended. In the link below you’ll find more information and a link to the registration form in the link below. Please carry water and snacks or lunch.  The activity contact is David Vance at vanced@canaanresort.com or by phone at 304-866-2215. \nWhen visiting Canaan Resort’s website\, www.canaanresort.com\, find “Events” at the very top bar for all planned activities and events in 2023.
URL:https://wvstateparks.com/event/walk-between-the-parks-canaan-valley/
LOCATION:Canaan Valley Resort State Park\, 230 Main Lodge Rd\, Davis\, WV\, 26260\, United States
END:VEVENT
END:VCALENDAR