BEGIN:VCALENDAR
VERSION:2.0
PRODID:-//West Virginia State Parks - ECPv6.15.17.1//NONSGML v1.0//EN
CALSCALE:GREGORIAN
METHOD:PUBLISH
X-WR-CALNAME:West Virginia State Parks
X-ORIGINAL-URL:https://wvstateparks.com
X-WR-CALDESC:Events for West Virginia State Parks
REFRESH-INTERVAL;VALUE=DURATION:PT1H
X-Robots-Tag:noindex
X-PUBLISHED-TTL:PT1H
BEGIN:VTIMEZONE
TZID:America/New_York
BEGIN:DAYLIGHT
TZOFFSETFROM:-0500
TZOFFSETTO:-0400
TZNAME:EDT
DTSTART:20220313T070000
END:DAYLIGHT
BEGIN:STANDARD
TZOFFSETFROM:-0400
TZOFFSETTO:-0500
TZNAME:EST
DTSTART:20221106T060000
END:STANDARD
BEGIN:DAYLIGHT
TZOFFSETFROM:-0500
TZOFFSETTO:-0400
TZNAME:EDT
DTSTART:20230312T070000
END:DAYLIGHT
BEGIN:STANDARD
TZOFFSETFROM:-0400
TZOFFSETTO:-0500
TZNAME:EST
DTSTART:20231105T060000
END:STANDARD
BEGIN:DAYLIGHT
TZOFFSETFROM:-0500
TZOFFSETTO:-0400
TZNAME:EDT
DTSTART:20240310T070000
END:DAYLIGHT
BEGIN:STANDARD
TZOFFSETFROM:-0400
TZOFFSETTO:-0500
TZNAME:EST
DTSTART:20241103T060000
END:STANDARD
END:VTIMEZONE
BEGIN:VEVENT
DTSTART;TZID=America/New_York:20231028T000000
DTEND;TZID=America/New_York:20231028T235959
DTSTAMP:20260419T171810
CREATED:20230307T174723Z
LAST-MODIFIED:20230307T174723Z
UID:26723-1698451200-1698537599@wvstateparks.com
SUMMARY:Trunk or Treat: Twin Falls
DESCRIPTION:It’s great fun for the kiddos! \nTrunk or Treat is for youth up to 13 years of age. Wearing a costume makes it all the more fun and encouraged. There is no fee for kiddos to participate. This year’s event at Twin Falls State Park is on Saturday\, October 28\, 2023 and will be in the campground with multiple businesses and individuals ‘treating’. Entry to the trunk or treat will not open early. Watch for signs and parking instructions. \nTimes and additional information will be posted here as available. Individuals/organizations/businesses wanting to provide treats and host a station should contact Tammy.D.Cooper@wv.gov for an assigned space. \nReserve lodging: \nBook Now
URL:https://wvstateparks.com/event/trunk-or-treat-twin-falls-3/
LOCATION:Twin Falls Resort State Park\, United States
END:VEVENT
END:VCALENDAR