BEGIN:VCALENDAR
VERSION:2.0
PRODID:-//West Virginia State Parks - ECPv6.15.17.1//NONSGML v1.0//EN
CALSCALE:GREGORIAN
METHOD:PUBLISH
X-WR-CALNAME:West Virginia State Parks
X-ORIGINAL-URL:https://wvstateparks.com
X-WR-CALDESC:Events for West Virginia State Parks
REFRESH-INTERVAL;VALUE=DURATION:PT1H
X-Robots-Tag:noindex
X-PUBLISHED-TTL:PT1H
BEGIN:VTIMEZONE
TZID:America/New_York
BEGIN:DAYLIGHT
TZOFFSETFROM:-0500
TZOFFSETTO:-0400
TZNAME:EDT
DTSTART:20220313T070000
END:DAYLIGHT
BEGIN:STANDARD
TZOFFSETFROM:-0400
TZOFFSETTO:-0500
TZNAME:EST
DTSTART:20221106T060000
END:STANDARD
BEGIN:DAYLIGHT
TZOFFSETFROM:-0500
TZOFFSETTO:-0400
TZNAME:EDT
DTSTART:20230312T070000
END:DAYLIGHT
BEGIN:STANDARD
TZOFFSETFROM:-0400
TZOFFSETTO:-0500
TZNAME:EST
DTSTART:20231105T060000
END:STANDARD
BEGIN:DAYLIGHT
TZOFFSETFROM:-0500
TZOFFSETTO:-0400
TZNAME:EDT
DTSTART:20240310T070000
END:DAYLIGHT
BEGIN:STANDARD
TZOFFSETFROM:-0400
TZOFFSETTO:-0500
TZNAME:EST
DTSTART:20241103T060000
END:STANDARD
END:VTIMEZONE
BEGIN:VEVENT
DTSTART;VALUE=DATE:20230915
DTEND;VALUE=DATE:20230918
DTSTAMP:20260419T153055
CREATED:20220922T194237Z
LAST-MODIFIED:20230109T173929Z
UID:26528-1694736000-1694995199@wvstateparks.com
SUMMARY:The Legacy of Mary Ingles: Beech Fork
DESCRIPTION:The Mary Ingles Trail Associates (MITA) presents the 2023 “Legacy of Mary Ingles” encampment and living history event. This year marks the 268th anniversary of Mary Ingles’ odyssey in 1755 as she was captured by\, and escaped from\, Shawnee Native Americans. This history and heritage program is September 15 – 17\, 2023 at Beech Fork State Park.The Mary Ingles Trail Associates (MITA) presents a historical encampment based on research of the life of Mary Draper Ingles. \n• Friday activities are offered for school groups.• Saturday and Sunday encampment activities and presentations are open to the public free of charge. \nAbout Mary Draper Ingles \nIn 1755\, during the French and Indian War\, Ingles was a 23-year-old frontier wife living with her extended family at Drapers Meadow\, near present-day Blacksburg\, Virginia\, when a Shawnee war party attacked the settlement. The pioneer woman’s mother was among those killed in the raid\, while Ingles\, her two sons and a sister-in-law were among the settlers captured. Ingles was separated from her boys and taken to a Shawnee settlement near the site of present-day Portsmouth\, Ohio\, and then on to Big Bone Lick in north-central Kentucky. There\, she and a captive from another settlement managed to escape\, and follow the Ohio\, Kanawha\, and New rivers back to Drapers Meadow in a perilous 40-day trek. \nReserve lodging: \nBook Now
URL:https://wvstateparks.com/event/the-legacy-of-mary-ingles-beech-fork-2/
LOCATION:Beech Fork State Park\, United States
END:VEVENT
END:VCALENDAR