BEGIN:VCALENDAR
VERSION:2.0
PRODID:-//West Virginia State Parks - ECPv6.15.17.1//NONSGML v1.0//EN
CALSCALE:GREGORIAN
METHOD:PUBLISH
X-WR-CALNAME:West Virginia State Parks
X-ORIGINAL-URL:https://wvstateparks.com
X-WR-CALDESC:Events for West Virginia State Parks
REFRESH-INTERVAL;VALUE=DURATION:PT1H
X-Robots-Tag:noindex
X-PUBLISHED-TTL:PT1H
BEGIN:VTIMEZONE
TZID:America/New_York
BEGIN:DAYLIGHT
TZOFFSETFROM:-0500
TZOFFSETTO:-0400
TZNAME:EDT
DTSTART:20220313T070000
END:DAYLIGHT
BEGIN:STANDARD
TZOFFSETFROM:-0400
TZOFFSETTO:-0500
TZNAME:EST
DTSTART:20221106T060000
END:STANDARD
BEGIN:DAYLIGHT
TZOFFSETFROM:-0500
TZOFFSETTO:-0400
TZNAME:EDT
DTSTART:20230312T070000
END:DAYLIGHT
BEGIN:STANDARD
TZOFFSETFROM:-0400
TZOFFSETTO:-0500
TZNAME:EST
DTSTART:20231105T060000
END:STANDARD
BEGIN:DAYLIGHT
TZOFFSETFROM:-0500
TZOFFSETTO:-0400
TZNAME:EDT
DTSTART:20240310T070000
END:DAYLIGHT
BEGIN:STANDARD
TZOFFSETFROM:-0400
TZOFFSETTO:-0500
TZNAME:EST
DTSTART:20241103T060000
END:STANDARD
END:VTIMEZONE
BEGIN:VEVENT
DTSTART;TZID=America/New_York:20230616T190000
DTEND;TZID=America/New_York:20230616T210000
DTSTAMP:20260419T152629
CREATED:20230127T171441Z
LAST-MODIFIED:20230405T015429Z
UID:26630-1686942000-1686949200@wvstateparks.com
SUMMARY:Synchronized Fireflies! Watoga
DESCRIPTION:Fascination with lightning bugs or fireflies is an all ages interest.  The flickering signals of different species of fireflies amazes zoologists and entomologists and really\, just about everyone with curiosity of the outdoors and watchable wildlife. \n\n\n\nIf you enjoy early summer evenings\, the flickering of fireflies\, and citizen science discoveries\, don’t miss this Watoga State Park program on Friday\, June 16\, 2023.  Meet Krista Noe\, Assistant Zoologist with the West Virginia Division of Natural Resources for her program and presentation about Synchronized Fireflies in Watoga.  This particular species of firefly should be peaking at this time of the year. \n\n\n\nMeet at the picnic shelter at Watoga State Park at 7:00 p.m. There is no charge to attend this program. \n\n\n\nSome interesting websites to check out about this bioluminescent insect are:  \n\n\n\nhttps://storymaps.arcgis.com/stories/cc64f79fba9f41d2905aa6068ba13daa  \n\n\n\nhttps://www.wonderfulwv.com/SiteCollectionDocuments/Archive/Jun2021.pdf \n\n\n\nReserve lodging: \n\n\n\nBook Now\n\n\n\n \n\n\n\n\n\n\n\n\n\n\n\n\n\n\n\n\nhttps://www.wonderfulwv.com/SiteCollectionDocuments/Archive/Jun2021.pdf
URL:https://wvstateparks.com/event/synchronized-fireflies-watoga/
LOCATION:Watoga State Park\, United States
END:VEVENT
END:VCALENDAR