BEGIN:VCALENDAR
VERSION:2.0
PRODID:-//West Virginia State Parks - ECPv6.15.17.1//NONSGML v1.0//EN
CALSCALE:GREGORIAN
METHOD:PUBLISH
X-WR-CALNAME:West Virginia State Parks
X-ORIGINAL-URL:https://wvstateparks.com
X-WR-CALDESC:Events for West Virginia State Parks
REFRESH-INTERVAL;VALUE=DURATION:PT1H
X-Robots-Tag:noindex
X-PUBLISHED-TTL:PT1H
BEGIN:VTIMEZONE
TZID:America/New_York
BEGIN:DAYLIGHT
TZOFFSETFROM:-0500
TZOFFSETTO:-0400
TZNAME:EDT
DTSTART:20220313T070000
END:DAYLIGHT
BEGIN:STANDARD
TZOFFSETFROM:-0400
TZOFFSETTO:-0500
TZNAME:EST
DTSTART:20221106T060000
END:STANDARD
BEGIN:DAYLIGHT
TZOFFSETFROM:-0500
TZOFFSETTO:-0400
TZNAME:EDT
DTSTART:20230312T070000
END:DAYLIGHT
BEGIN:STANDARD
TZOFFSETFROM:-0400
TZOFFSETTO:-0500
TZNAME:EST
DTSTART:20231105T060000
END:STANDARD
BEGIN:DAYLIGHT
TZOFFSETFROM:-0500
TZOFFSETTO:-0400
TZNAME:EDT
DTSTART:20240310T070000
END:DAYLIGHT
BEGIN:STANDARD
TZOFFSETFROM:-0400
TZOFFSETTO:-0500
TZNAME:EST
DTSTART:20241103T060000
END:STANDARD
END:VTIMEZONE
BEGIN:VEVENT
DTSTART;TZID=America/New_York:20230317T000000
DTEND;TZID=America/New_York:20230319T235959
DTSTAMP:20260422T002333
CREATED:20230209T182328Z
LAST-MODIFIED:20230209T182331Z
UID:26666-1679011200-1679270399@wvstateparks.com
SUMMARY:St. Patrick’s Day Weekend Dining Specials: Hawks Nest
DESCRIPTION:Hawks Nest State Park invites you to visit on St. Patrick’s Day Weekend\, be it an overnight stay at the lodge or to enjoy some dining specials added for three days\, March 17\, 18\, and 19\, 2023 to the daily menu recognizing St. Patrick’s Day. There should be a wee bit of spring greening of trees and flora from the gorge view from the restaurant as you enjoy these special menu items. \n‘The Overlook’ Irish NachosSuper thin slices of fried potatoes (dare we say homemade crisps?) topped with cheese and your choice of corn beef or bacon with sour cream and onions. \nCorned beef and Cabbage StewA tradition. Corned beef and cabbage seasoned just right and simmered together with naturally infused broth. \nCocktail SpecialsShamrock Sours and Lucky Leprechauns \nFor additional information about dining at Hawks Nest State Park\, email hawksnestsp@wv.go or F/B Director\, Samantha.L.Dempsey@wv.gov. \n  \nReserve lodging: \nBook Now
URL:https://wvstateparks.com/event/st-patricks-day-weekend-dining-specials-hawks-nest/
LOCATION:Hawks Nest State Park\, United States
END:VEVENT
END:VCALENDAR