BEGIN:VCALENDAR
VERSION:2.0
PRODID:-//West Virginia State Parks - ECPv6.15.17.1//NONSGML v1.0//EN
CALSCALE:GREGORIAN
METHOD:PUBLISH
X-WR-CALNAME:West Virginia State Parks
X-ORIGINAL-URL:https://wvstateparks.com
X-WR-CALDESC:Events for West Virginia State Parks
REFRESH-INTERVAL;VALUE=DURATION:PT1H
X-Robots-Tag:noindex
X-PUBLISHED-TTL:PT1H
BEGIN:VTIMEZONE
TZID:America/New_York
BEGIN:DAYLIGHT
TZOFFSETFROM:-0500
TZOFFSETTO:-0400
TZNAME:EDT
DTSTART:20220313T070000
END:DAYLIGHT
BEGIN:STANDARD
TZOFFSETFROM:-0400
TZOFFSETTO:-0500
TZNAME:EST
DTSTART:20221106T060000
END:STANDARD
BEGIN:DAYLIGHT
TZOFFSETFROM:-0500
TZOFFSETTO:-0400
TZNAME:EDT
DTSTART:20230312T070000
END:DAYLIGHT
BEGIN:STANDARD
TZOFFSETFROM:-0400
TZOFFSETTO:-0500
TZNAME:EST
DTSTART:20231105T060000
END:STANDARD
BEGIN:DAYLIGHT
TZOFFSETFROM:-0500
TZOFFSETTO:-0400
TZNAME:EDT
DTSTART:20240310T070000
END:DAYLIGHT
BEGIN:STANDARD
TZOFFSETFROM:-0400
TZOFFSETTO:-0500
TZNAME:EST
DTSTART:20241103T060000
END:STANDARD
END:VTIMEZONE
BEGIN:VEVENT
DTSTART;TZID=America/New_York:20230603T203000
DTEND;TZID=America/New_York:20230603T220000
DTSTAMP:20260419T153129
CREATED:20230404T011343Z
LAST-MODIFIED:20230404T011343Z
UID:26783-1685824200-1685829600@wvstateparks.com
SUMMARY:National Trails Day Hike: Cass Scenic Railroad
DESCRIPTION:Cass Scenic Railroad State Park is offering  a National Trails Day Hike Saturday\, June 3\, 2023 in conjunction with a Full Moon Hike. The hike starts at 8:30PM and meets at the Cass Company Store. \nThis hike is on the Greenbrier River Trail and will depart from the Company Store to Mile Marker 79 and return.  About three miles of easy walking until the light of a full moon. The hike leader is Superintendent Marshall Markley.  Participants received a Trails Day patch upon return.  The hike is open to the public and without charge.  \nNational Trails Day® occurs on the first Saturday in June. It is a day of public events aimed at advocacy and trail service. The celebration is led by the American Hiking Society and 2023 marks the 31st year of the initiative.
URL:https://wvstateparks.com/event/national-trails-day-hike-cass-scenic-railroad/
LOCATION:Cass Scenic Railroad State Park\, United States
END:VEVENT
END:VCALENDAR