BEGIN:VCALENDAR
VERSION:2.0
PRODID:-//West Virginia State Parks - ECPv6.15.17.1//NONSGML v1.0//EN
CALSCALE:GREGORIAN
METHOD:PUBLISH
X-WR-CALNAME:West Virginia State Parks
X-ORIGINAL-URL:https://wvstateparks.com
X-WR-CALDESC:Events for West Virginia State Parks
REFRESH-INTERVAL;VALUE=DURATION:PT1H
X-Robots-Tag:noindex
X-PUBLISHED-TTL:PT1H
BEGIN:VTIMEZONE
TZID:America/New_York
BEGIN:DAYLIGHT
TZOFFSETFROM:-0500
TZOFFSETTO:-0400
TZNAME:EDT
DTSTART:20220313T070000
END:DAYLIGHT
BEGIN:STANDARD
TZOFFSETFROM:-0400
TZOFFSETTO:-0500
TZNAME:EST
DTSTART:20221106T060000
END:STANDARD
BEGIN:DAYLIGHT
TZOFFSETFROM:-0500
TZOFFSETTO:-0400
TZNAME:EDT
DTSTART:20230312T070000
END:DAYLIGHT
BEGIN:STANDARD
TZOFFSETFROM:-0400
TZOFFSETTO:-0500
TZNAME:EST
DTSTART:20231105T060000
END:STANDARD
BEGIN:DAYLIGHT
TZOFFSETFROM:-0500
TZOFFSETTO:-0400
TZNAME:EDT
DTSTART:20240310T070000
END:DAYLIGHT
BEGIN:STANDARD
TZOFFSETFROM:-0400
TZOFFSETTO:-0500
TZNAME:EST
DTSTART:20241103T060000
END:STANDARD
END:VTIMEZONE
BEGIN:VEVENT
DTSTART;TZID=America/New_York:20230603T100000
DTEND;TZID=America/New_York:20230603T123000
DTSTAMP:20260419T115333
CREATED:20230404T011416Z
LAST-MODIFIED:20230426T173437Z
UID:26785-1685786400-1685795400@wvstateparks.com
SUMMARY:National Trails Day Hike: Cacapon
DESCRIPTION:Cacapon Resort State Park celebrates National Trails Day on June 3\, 2023 with two guided hikes. Organized by Park Naturalist Valerie Chaney and park volunteers\, both hikes will start from the Nature Center at 10:00 a.m.    \nThe easy to moderate hike will be on the Laurel Trail\, a forested and lake view trail that is approximately 2½ miles of total walking. \nThe more strenuous hike will be on the Ziler and Central Trail Loop. Led by naturalist Allen Miller\, this hike provides multiple views with a vigorous climb and descent\, but worth every step.  We pace ourselves to enjoy the experience. Both hikes start at the nature center and depart at the same time. \nHikes are open to the public and without charge. Wearing comfortable closed toed walking or hiking shoes is recommended. Hikers receive a Trails Day patch at the conclusion of the activity. \nNational Trails Day is an initiative to unite all muscle-powered trail activities with the goal of connecting more people to trails. Each year\, since 1993\, on the first Saturday of June\, the American Hiking Society and the trails community invite Americans of all ages to walk or hike. \nFor more information about activities at Cacapon Resort State Park\, email valerie.l.chaney@wv.gov.  Activities are also added to the Cacapon State Park Foundation Facebook page.
URL:https://wvstateparks.com/event/national-trails-day-hike-cacapon/
LOCATION:Cacapon Resort State Park\, United States
END:VEVENT
END:VCALENDAR