BEGIN:VCALENDAR
VERSION:2.0
PRODID:-//West Virginia State Parks - ECPv6.15.17.1//NONSGML v1.0//EN
CALSCALE:GREGORIAN
METHOD:PUBLISH
X-WR-CALNAME:West Virginia State Parks
X-ORIGINAL-URL:https://wvstateparks.com
X-WR-CALDESC:Events for West Virginia State Parks
REFRESH-INTERVAL;VALUE=DURATION:PT1H
X-Robots-Tag:noindex
X-PUBLISHED-TTL:PT1H
BEGIN:VTIMEZONE
TZID:America/New_York
BEGIN:DAYLIGHT
TZOFFSETFROM:-0500
TZOFFSETTO:-0400
TZNAME:EDT
DTSTART:20220313T070000
END:DAYLIGHT
BEGIN:STANDARD
TZOFFSETFROM:-0400
TZOFFSETTO:-0500
TZNAME:EST
DTSTART:20221106T060000
END:STANDARD
BEGIN:DAYLIGHT
TZOFFSETFROM:-0500
TZOFFSETTO:-0400
TZNAME:EDT
DTSTART:20230312T070000
END:DAYLIGHT
BEGIN:STANDARD
TZOFFSETFROM:-0400
TZOFFSETTO:-0500
TZNAME:EST
DTSTART:20231105T060000
END:STANDARD
BEGIN:DAYLIGHT
TZOFFSETFROM:-0500
TZOFFSETTO:-0400
TZNAME:EDT
DTSTART:20240310T070000
END:DAYLIGHT
BEGIN:STANDARD
TZOFFSETFROM:-0400
TZOFFSETTO:-0500
TZNAME:EST
DTSTART:20241103T060000
END:STANDARD
END:VTIMEZONE
BEGIN:VEVENT
DTSTART;TZID=America/New_York:20230714T180000
DTEND;TZID=America/New_York:20230714T210000
DTSTAMP:20260419T134337
CREATED:20230504T124809Z
LAST-MODIFIED:20230504T124810Z
UID:26845-1689357600-1689368400@wvstateparks.com
SUMMARY:Mountain Music Series - Centerfire Bluegrass Band: Canaan Valley
DESCRIPTION:The Centerfire Bluegrass Band performs live music at Canaan Valley on July 14\, 2023. \n\n\n\nMountain Music Friday Series returns to Canaan Valley Resort in 2023. Live music is slopesideat Quenchers Plaza is from 6:00-9:00 PM. Free concert and open to the public. \n\n\n\nSunset scenic chairlift rides are available with ticket purchase in Quencher’s Pub. Pub will beopen. In case of inclement weather the music will be indoors at Bearpaw. \n\n\n\nFor more information\, contact Kelsey Jeffries at 304.866.4121 Ext. 92678. Visitwww.CanaanResort.com and click the ‘Events’ tab.
URL:https://wvstateparks.com/event/mountain-music-series-centerfire-bluegrass-band-canaan-valley/
LOCATION:Canaan Valley Resort State Park\, 230 Main Lodge Rd\, Davis\, WV\, 26260\, United States
END:VEVENT
END:VCALENDAR