BEGIN:VCALENDAR
VERSION:2.0
PRODID:-//West Virginia State Parks - ECPv6.15.17.1//NONSGML v1.0//EN
CALSCALE:GREGORIAN
METHOD:PUBLISH
X-WR-CALNAME:West Virginia State Parks
X-ORIGINAL-URL:https://wvstateparks.com
X-WR-CALDESC:Events for West Virginia State Parks
REFRESH-INTERVAL;VALUE=DURATION:PT1H
X-Robots-Tag:noindex
X-PUBLISHED-TTL:PT1H
BEGIN:VTIMEZONE
TZID:America/New_York
BEGIN:DAYLIGHT
TZOFFSETFROM:-0500
TZOFFSETTO:-0400
TZNAME:EDT
DTSTART:20220313T070000
END:DAYLIGHT
BEGIN:STANDARD
TZOFFSETFROM:-0400
TZOFFSETTO:-0500
TZNAME:EST
DTSTART:20221106T060000
END:STANDARD
BEGIN:DAYLIGHT
TZOFFSETFROM:-0500
TZOFFSETTO:-0400
TZNAME:EDT
DTSTART:20230312T070000
END:DAYLIGHT
BEGIN:STANDARD
TZOFFSETFROM:-0400
TZOFFSETTO:-0500
TZNAME:EST
DTSTART:20231105T060000
END:STANDARD
BEGIN:DAYLIGHT
TZOFFSETFROM:-0500
TZOFFSETTO:-0400
TZNAME:EDT
DTSTART:20240310T070000
END:DAYLIGHT
BEGIN:STANDARD
TZOFFSETFROM:-0400
TZOFFSETTO:-0500
TZNAME:EST
DTSTART:20241103T060000
END:STANDARD
END:VTIMEZONE
BEGIN:VEVENT
DTSTART;TZID=America/New_York:20230811T000000
DTEND;TZID=America/New_York:20230812T235959
DTSTAMP:20260419T191326
CREATED:20230217T205106Z
LAST-MODIFIED:20230217T205107Z
UID:26689-1691712000-1691884799@wvstateparks.com
SUMMARY:Intro to Spinning for Adults: Prickett’s Fort
DESCRIPTION:Try your hand at weaving on a tape loom at Prickett’s Fort State Park. Participants will receive one hour of personal one-on-one instruction from one of our skilled interpreters on Friday\, August 11 or Saturday\, August 12\, 2023. \nOne-hour sessions are $20 per person and participants must be age 16 and older. One person per session. Please register by contacting the Foundation Office at 304-363-3030 to set up a date and time. Admission to the fort is included. Spaces fill up fast\, so make sure to register early. \nFor more information about Prickett’s Fort State Park\, Pricketts Fort Foundation\, and class registration\, please call 304 363 3030 or visit the link included below. \nLodging is available nearby at Tygart Lake State Park. \nReserve lodging: \nBook Now
URL:https://wvstateparks.com/event/intro-to-spinning-for-adults-pricketts-fort-4/
LOCATION:Prickett’s Fort State Park\, United States
END:VEVENT
END:VCALENDAR