BEGIN:VCALENDAR
VERSION:2.0
PRODID:-//West Virginia State Parks - ECPv6.15.17.1//NONSGML v1.0//EN
CALSCALE:GREGORIAN
METHOD:PUBLISH
X-WR-CALNAME:West Virginia State Parks
X-ORIGINAL-URL:https://wvstateparks.com
X-WR-CALDESC:Events for West Virginia State Parks
REFRESH-INTERVAL;VALUE=DURATION:PT1H
X-Robots-Tag:noindex
X-PUBLISHED-TTL:PT1H
BEGIN:VTIMEZONE
TZID:America/New_York
BEGIN:DAYLIGHT
TZOFFSETFROM:-0500
TZOFFSETTO:-0400
TZNAME:EDT
DTSTART:20220313T070000
END:DAYLIGHT
BEGIN:STANDARD
TZOFFSETFROM:-0400
TZOFFSETTO:-0500
TZNAME:EST
DTSTART:20221106T060000
END:STANDARD
BEGIN:DAYLIGHT
TZOFFSETFROM:-0500
TZOFFSETTO:-0400
TZNAME:EDT
DTSTART:20230312T070000
END:DAYLIGHT
BEGIN:STANDARD
TZOFFSETFROM:-0400
TZOFFSETTO:-0500
TZNAME:EST
DTSTART:20231105T060000
END:STANDARD
BEGIN:DAYLIGHT
TZOFFSETFROM:-0500
TZOFFSETTO:-0400
TZNAME:EDT
DTSTART:20240310T070000
END:DAYLIGHT
BEGIN:STANDARD
TZOFFSETFROM:-0400
TZOFFSETTO:-0500
TZNAME:EST
DTSTART:20241103T060000
END:STANDARD
END:VTIMEZONE
BEGIN:VEVENT
DTSTART;TZID=America/New_York:20230529T170000
DTEND;TZID=America/New_York:20230529T180000
DTSTAMP:20260419T133946
CREATED:20230224T203244Z
LAST-MODIFIED:20230224T203245Z
UID:26694-1685379600-1685383200@wvstateparks.com
SUMMARY:History Alive! Peanuts Creator\, Charles Schulz: Twin Falls
DESCRIPTION:A great evening program at Twin Falls State Park finds James Froemel portraying Charles Schulz\, the creator of the “Peanuts” comic strip and one of the most iconic cartoonists of our time. Join us May 29\, 2023 at 5:00PM. \nThis program is open to the public and free to attend. The program lasts about 45 minutes to an hour. This program is staged in the courtyard at Twin Falls Lodge – the perfect setting for any age attendee. \nJames Froemel as Charles Schulz shares the story of Charlie Brown\, Snoopy\, and the rest of the Peanuts gang that gave him a connection to audiences through his humor and wit that lasted nearly 50 years. \nThe staff at Twin Falls recommends this activity as a new way to experience the history of ‘Peanuts’ as History Alive! The evening is made possible by the West Virginia Humanities Council and Twin Falls State Park. \nAttendees arriving as any Peanuts’ character or wearing Peanuts apparel win a fun prize from Naturalist and Activities Coordinator Tammy Cooper. The opportunity for selfies is also part of the evening. Following the program\, attendees may plan to have dinner at Twin Falls Restaurant. \n  \nReserve lodging: \nBook Now
URL:https://wvstateparks.com/event/history-alive-peanuts-creator-charles-schulz-twin-falls/
LOCATION:Twin Falls Resort State Park\, United States
END:VEVENT
END:VCALENDAR