BEGIN:VCALENDAR
VERSION:2.0
PRODID:-//West Virginia State Parks - ECPv6.15.17.1//NONSGML v1.0//EN
CALSCALE:GREGORIAN
METHOD:PUBLISH
X-WR-CALNAME:West Virginia State Parks
X-ORIGINAL-URL:https://wvstateparks.com
X-WR-CALDESC:Events for West Virginia State Parks
REFRESH-INTERVAL;VALUE=DURATION:PT1H
X-Robots-Tag:noindex
X-PUBLISHED-TTL:PT1H
BEGIN:VTIMEZONE
TZID:America/New_York
BEGIN:DAYLIGHT
TZOFFSETFROM:-0500
TZOFFSETTO:-0400
TZNAME:EDT
DTSTART:20220313T070000
END:DAYLIGHT
BEGIN:STANDARD
TZOFFSETFROM:-0400
TZOFFSETTO:-0500
TZNAME:EST
DTSTART:20221106T060000
END:STANDARD
BEGIN:DAYLIGHT
TZOFFSETFROM:-0500
TZOFFSETTO:-0400
TZNAME:EDT
DTSTART:20230312T070000
END:DAYLIGHT
BEGIN:STANDARD
TZOFFSETFROM:-0400
TZOFFSETTO:-0500
TZNAME:EST
DTSTART:20231105T060000
END:STANDARD
BEGIN:DAYLIGHT
TZOFFSETFROM:-0500
TZOFFSETTO:-0400
TZNAME:EDT
DTSTART:20240310T070000
END:DAYLIGHT
BEGIN:STANDARD
TZOFFSETFROM:-0400
TZOFFSETTO:-0500
TZNAME:EST
DTSTART:20241103T060000
END:STANDARD
END:VTIMEZONE
BEGIN:VEVENT
DTSTART;TZID=America/New_York:20230520T110000
DTEND;TZID=America/New_York:20230520T140000
DTSTAMP:20260419T171406
CREATED:20230207T234216Z
LAST-MODIFIED:20230207T234216Z
UID:26655-1684580400-1684591200@wvstateparks.com
SUMMARY:Hearth Cooking Demonstration: Prickett’s Fort
DESCRIPTION:Come out and tour the fort and smell the food cooking over an open hearth\, the way food was prepared during the colonial period of our history. Recipes will be available upon request. Regular admission applies. This activity is at Prickett’s Fort State Park on Saturday\, May 20\, 2023 from 11:00AM – 2:00PM \nIf you’re looking for a place to spend the night consider Tygart Lake State Park for lodge or cabin accommodations. \nHistoric attractions at Prickett’s Fort are open April 24 to October 29\, 2023. Days and hours of operation are Monday – Saturday 10:00AM – 4:00PM and Sunday from noon until 4:00PM and closed on Mondays and Tuesdays after Labor Day. \nFor more information about Prickett’s Fort State Park and the Pricketts Fort Memorial Foundation and admission fees\, call 304-363-3030 or visit the link included below. \nReserve lodging: \nBook Now
URL:https://wvstateparks.com/event/hearth-cooking-demonstration-pricketts-fort-2/
LOCATION:Prickett’s Fort State Park\, United States
END:VEVENT
END:VCALENDAR