BEGIN:VCALENDAR
VERSION:2.0
PRODID:-//West Virginia State Parks - ECPv6.15.17.1//NONSGML v1.0//EN
CALSCALE:GREGORIAN
METHOD:PUBLISH
X-WR-CALNAME:West Virginia State Parks
X-ORIGINAL-URL:https://wvstateparks.com
X-WR-CALDESC:Events for West Virginia State Parks
REFRESH-INTERVAL;VALUE=DURATION:PT1H
X-Robots-Tag:noindex
X-PUBLISHED-TTL:PT1H
BEGIN:VTIMEZONE
TZID:America/New_York
BEGIN:DAYLIGHT
TZOFFSETFROM:-0500
TZOFFSETTO:-0400
TZNAME:EDT
DTSTART:20220313T070000
END:DAYLIGHT
BEGIN:STANDARD
TZOFFSETFROM:-0400
TZOFFSETTO:-0500
TZNAME:EST
DTSTART:20221106T060000
END:STANDARD
BEGIN:DAYLIGHT
TZOFFSETFROM:-0500
TZOFFSETTO:-0400
TZNAME:EDT
DTSTART:20230312T070000
END:DAYLIGHT
BEGIN:STANDARD
TZOFFSETFROM:-0400
TZOFFSETTO:-0500
TZNAME:EST
DTSTART:20231105T060000
END:STANDARD
BEGIN:DAYLIGHT
TZOFFSETFROM:-0500
TZOFFSETTO:-0400
TZNAME:EDT
DTSTART:20240310T070000
END:DAYLIGHT
BEGIN:STANDARD
TZOFFSETFROM:-0400
TZOFFSETTO:-0500
TZNAME:EST
DTSTART:20241103T060000
END:STANDARD
END:VTIMEZONE
BEGIN:VEVENT
DTSTART;TZID=America/New_York:20230603T000000
DTEND;TZID=America/New_York:20230603T235959
DTSTAMP:20260419T170947
CREATED:20230307T173345Z
LAST-MODIFIED:20230307T173345Z
UID:26718-1685750400-1685836799@wvstateparks.com
SUMMARY:Geology! Rocks. : Twin Falls
DESCRIPTION:If you like rocks\, gravel\, sand\, boulders\, and really old things like meteors and fossils\, meet Ken Ashton\, a geologist with the West Virginia Geological & Economic Survey. He’ll be at Twin Falls June 3\, 2023 with an afternoon hike and an evening geology program indoors. \nThe first step for this special program is an afternoon hike on the Falls Trail. Meet naturalist Tammy Cooper and Geologist Ken Ashton at the Falls Trail parking area at 1:00PM. This is a great opportunity to see first-hand how water shapes and erodes rock over time\, see layers of soils and have a better understanding of all soil horizons start with bedrock. This hike is open to the public and without cost. \nThe second step is our evening program with Geologist Ashton. This presentation goes beyond Twin Falls and across West Virginia’s geologic story. From coal to shale to fossils\, how sand is formed\, is there more than sandstone in West Virginia and what about rivers\, oil\, gas\, salt – all part of the geology program. This evening program will be in the Dogwood Room at Twin Falls Lodge at 7:00PM. Open to the public and may be an interest for homeschooled students as well as youth in 4-H or Scouting projects. \nA ‘geology rocks’ patch is presented by Naturalist Tammy Cooper to each individual attending this evening program. Questions? Email tammy.d.cooper@wv.gov. \nReserve lodging: \nBook Now
URL:https://wvstateparks.com/event/geology-rocks-twin-falls-2/
LOCATION:Twin Falls Resort State Park\, United States
END:VEVENT
END:VCALENDAR