BEGIN:VCALENDAR
VERSION:2.0
PRODID:-//West Virginia State Parks - ECPv6.15.17.1//NONSGML v1.0//EN
CALSCALE:GREGORIAN
METHOD:PUBLISH
X-WR-CALNAME:West Virginia State Parks
X-ORIGINAL-URL:https://wvstateparks.com
X-WR-CALDESC:Events for West Virginia State Parks
REFRESH-INTERVAL;VALUE=DURATION:PT1H
X-Robots-Tag:noindex
X-PUBLISHED-TTL:PT1H
BEGIN:VTIMEZONE
TZID:America/New_York
BEGIN:DAYLIGHT
TZOFFSETFROM:-0500
TZOFFSETTO:-0400
TZNAME:EDT
DTSTART:20220313T070000
END:DAYLIGHT
BEGIN:STANDARD
TZOFFSETFROM:-0400
TZOFFSETTO:-0500
TZNAME:EST
DTSTART:20221106T060000
END:STANDARD
BEGIN:DAYLIGHT
TZOFFSETFROM:-0500
TZOFFSETTO:-0400
TZNAME:EDT
DTSTART:20230312T070000
END:DAYLIGHT
BEGIN:STANDARD
TZOFFSETFROM:-0400
TZOFFSETTO:-0500
TZNAME:EST
DTSTART:20231105T060000
END:STANDARD
BEGIN:DAYLIGHT
TZOFFSETFROM:-0500
TZOFFSETTO:-0400
TZNAME:EDT
DTSTART:20240310T070000
END:DAYLIGHT
BEGIN:STANDARD
TZOFFSETFROM:-0400
TZOFFSETTO:-0500
TZNAME:EST
DTSTART:20241103T060000
END:STANDARD
END:VTIMEZONE
BEGIN:VEVENT
DTSTART;TZID=America/New_York:20230719T190000
DTEND;TZID=America/New_York:20230719T203000
DTSTAMP:20260421T042703
CREATED:20230426T202515Z
LAST-MODIFIED:20230426T202516Z
UID:26824-1689793200-1689798600@wvstateparks.com
SUMMARY:Geology Rocks! - An Evening at Cacapon
DESCRIPTION:It’s a rockin’ weekend at Cacapon Resort State Park. Geologist Ken Ashton welcomes ‘rockers’ to an evening program about the geology of West Virginia. You’ll discover more about rocks\, minerals and fossils in West Virginia and the area during the evening presentation held at Cacapon’s Nature Center at 7:00 p.m.\, Wednesday\, July 19\, 2023. The program is free to attend and open to the public. \nHave you ever asked ‘Is there gold in these WV hills?’ or “What is an earthquake?” This program is for you. Youth and adults alike may skip a stone on water\, but do you know the geology of the Mountain State ? Geology rocks! Join us. \nThis program is presented by geologists of the West Virginia Geological and Economic Survey and hosted by Cacapon Resort State Park staff and Valerie Chaney\, Park Naturalist. A Thursday morning\, July 20\, 2023 Rock Hike is planned at 10:00 a.m. A Geology Rocks patch is a memento for participating. \nReserve lodging: \nBook Now
URL:https://wvstateparks.com/event/geology-rocks-an-evening-at-cacapon-2/
LOCATION:Cacapon Resort State Park\, United States
END:VEVENT
END:VCALENDAR