BEGIN:VCALENDAR
VERSION:2.0
PRODID:-//West Virginia State Parks - ECPv6.15.17.1//NONSGML v1.0//EN
CALSCALE:GREGORIAN
METHOD:PUBLISH
X-WR-CALNAME:West Virginia State Parks
X-ORIGINAL-URL:https://wvstateparks.com
X-WR-CALDESC:Events for West Virginia State Parks
REFRESH-INTERVAL;VALUE=DURATION:PT1H
X-Robots-Tag:noindex
X-PUBLISHED-TTL:PT1H
BEGIN:VTIMEZONE
TZID:America/New_York
BEGIN:DAYLIGHT
TZOFFSETFROM:-0500
TZOFFSETTO:-0400
TZNAME:EDT
DTSTART:20220313T070000
END:DAYLIGHT
BEGIN:STANDARD
TZOFFSETFROM:-0400
TZOFFSETTO:-0500
TZNAME:EST
DTSTART:20221106T060000
END:STANDARD
BEGIN:DAYLIGHT
TZOFFSETFROM:-0500
TZOFFSETTO:-0400
TZNAME:EDT
DTSTART:20230312T070000
END:DAYLIGHT
BEGIN:STANDARD
TZOFFSETFROM:-0400
TZOFFSETTO:-0500
TZNAME:EST
DTSTART:20231105T060000
END:STANDARD
BEGIN:DAYLIGHT
TZOFFSETFROM:-0500
TZOFFSETTO:-0400
TZNAME:EDT
DTSTART:20240310T070000
END:DAYLIGHT
BEGIN:STANDARD
TZOFFSETFROM:-0400
TZOFFSETTO:-0500
TZNAME:EST
DTSTART:20241103T060000
END:STANDARD
END:VTIMEZONE
BEGIN:VEVENT
DTSTART;TZID=America/New_York:20230804T000000
DTEND;TZID=America/New_York:20230804T235959
DTSTAMP:20260421T071351
CREATED:20230217T204210Z
LAST-MODIFIED:20230621T173355Z
UID:26683-1691107200-1691193599@wvstateparks.com
SUMMARY:Farm-to-Table Dinner: Chief Logan
DESCRIPTION:A delicious Farm-to-Table dinner at the lodge at Chief Logan State Park is scheduled for Friday\, August 4\, 2023. A popular dining experience\, you’ll want to make reservations in advance for this year’s event that is always fun and entertaining. \nThe growing season’s yield is sourced garden produce and products from West Virginia. The dining event is in the lodge restaurant\, begins at 6:30 p.m. and has limited reservations to assure attention to detail\, quality and presentation.  \nThe Farm to Table menu reads like a heritage meal and includes Garden Fresh Salad\, Baked Tilapia (Blue Acres )\, Marry Me Chicken ( Triple E Farm)\, Baked Cube Steak (Circle S Farms)\, (Gritt’s Farm) vegetables\, Mashed red potatoes /gravy\, Fried Green Tomatoes\, squash and zucchini\, half runner green beans\, Biscuits\, and Desserts with seasonal fruits \nFarm to Table per person cost is $29.99 adult; $12.95 children. \nCall Chief Logan State Park at 304-855-6100 to secure reservations or email chiefloganlodge@wv.gov with questions\, to be added to a reservation list\, or for additional information.
URL:https://wvstateparks.com/event/farm-to-table-dinner-chief-logan/
LOCATION:Chief Logan State Park\, United States
END:VEVENT
END:VCALENDAR