BEGIN:VCALENDAR
VERSION:2.0
PRODID:-//West Virginia State Parks - ECPv6.15.17.1//NONSGML v1.0//EN
CALSCALE:GREGORIAN
METHOD:PUBLISH
X-WR-CALNAME:West Virginia State Parks
X-ORIGINAL-URL:https://wvstateparks.com
X-WR-CALDESC:Events for West Virginia State Parks
REFRESH-INTERVAL;VALUE=DURATION:PT1H
X-Robots-Tag:noindex
X-PUBLISHED-TTL:PT1H
BEGIN:VTIMEZONE
TZID:America/New_York
BEGIN:DAYLIGHT
TZOFFSETFROM:-0500
TZOFFSETTO:-0400
TZNAME:EDT
DTSTART:20220313T070000
END:DAYLIGHT
BEGIN:STANDARD
TZOFFSETFROM:-0400
TZOFFSETTO:-0500
TZNAME:EST
DTSTART:20221106T060000
END:STANDARD
BEGIN:DAYLIGHT
TZOFFSETFROM:-0500
TZOFFSETTO:-0400
TZNAME:EDT
DTSTART:20230312T070000
END:DAYLIGHT
BEGIN:STANDARD
TZOFFSETFROM:-0400
TZOFFSETTO:-0500
TZNAME:EST
DTSTART:20231105T060000
END:STANDARD
BEGIN:DAYLIGHT
TZOFFSETFROM:-0500
TZOFFSETTO:-0400
TZNAME:EDT
DTSTART:20240310T070000
END:DAYLIGHT
BEGIN:STANDARD
TZOFFSETFROM:-0400
TZOFFSETTO:-0500
TZNAME:EST
DTSTART:20241103T060000
END:STANDARD
END:VTIMEZONE
BEGIN:VEVENT
DTSTART;TZID=America/New_York:20230818T000000
DTEND;TZID=America/New_York:20230818T235959
DTSTAMP:20260419T153034
CREATED:20230317T184751Z
LAST-MODIFIED:20230621T173241Z
UID:26745-1692316800-1692403199@wvstateparks.com
SUMMARY:Farm-to-Table: Canaan Valley Resort
DESCRIPTION:Dark skies with a sliver of moonlight makes the Canaan Valley 2023 Farm-to-Table dinner magical. This state park located in Tucker County W.Va.\, plans a wonderful dinner experience on August 18. This upscale dining event is a must attend dinner with courses showcasing local produce and products. \nThis special dinner  features Watermelon Gazpacho Spiked Shooter\, Grilled Peach Panzanella salad with Golden Balsamic Vinaigrette\, Summer Spring Roll/Seasonal Local Vegetables/Cilantro Lime Shrimp/Thai Peanut Sauce\, Pan Seared Scallop/Charred Corn Polenta/Pickled Chanterelles/Zucchini Crisp\, Heirloom Tomato Vinaigrette\, Roasted Lamb Lollipop/cranberry Ricotta/Chocolate Almond Drizzle\, Maple Bourbon Braised Beef Short Rib/Caramelized Shallot and Blacker pepper\, Mash/Collard Greens\, Mead Poached Romney Apple/Creme Anglaise/Pistachio Brittle/Local Honey Drizzle.  The per person cost is $75. \nFind Farm-to-Table information at www.canaanresort.com/resort/dining or call 304.866.2200. Reservations required.
URL:https://wvstateparks.com/event/farm-to-table-canaan-valley-resort/
LOCATION:Canaan Valley Resort State Park\, 230 Main Lodge Rd\, Davis\, WV\, 26260\, United States
END:VEVENT
END:VCALENDAR