BEGIN:VCALENDAR
VERSION:2.0
PRODID:-//West Virginia State Parks - ECPv6.15.17.1//NONSGML v1.0//EN
CALSCALE:GREGORIAN
METHOD:PUBLISH
X-WR-CALNAME:West Virginia State Parks
X-ORIGINAL-URL:https://wvstateparks.com
X-WR-CALDESC:Events for West Virginia State Parks
REFRESH-INTERVAL;VALUE=DURATION:PT1H
X-Robots-Tag:noindex
X-PUBLISHED-TTL:PT1H
BEGIN:VTIMEZONE
TZID:America/New_York
BEGIN:DAYLIGHT
TZOFFSETFROM:-0500
TZOFFSETTO:-0400
TZNAME:EDT
DTSTART:20220313T070000
END:DAYLIGHT
BEGIN:STANDARD
TZOFFSETFROM:-0400
TZOFFSETTO:-0500
TZNAME:EST
DTSTART:20221106T060000
END:STANDARD
BEGIN:DAYLIGHT
TZOFFSETFROM:-0500
TZOFFSETTO:-0400
TZNAME:EDT
DTSTART:20230312T070000
END:DAYLIGHT
BEGIN:STANDARD
TZOFFSETFROM:-0400
TZOFFSETTO:-0500
TZNAME:EST
DTSTART:20231105T060000
END:STANDARD
BEGIN:DAYLIGHT
TZOFFSETFROM:-0500
TZOFFSETTO:-0400
TZNAME:EDT
DTSTART:20240310T070000
END:DAYLIGHT
BEGIN:STANDARD
TZOFFSETFROM:-0400
TZOFFSETTO:-0500
TZNAME:EST
DTSTART:20241103T060000
END:STANDARD
END:VTIMEZONE
BEGIN:VEVENT
DTSTART;TZID=America/New_York:20230707T173000
DTEND;TZID=America/New_York:20230707T190000
DTSTAMP:20260419T134427
CREATED:20230515T190554Z
LAST-MODIFIED:20230515T190556Z
UID:26860-1688751000-1688756400@wvstateparks.com
SUMMARY:Concert in the Park - Deni Bonet & Chris Flynn: Berkeley Springs
DESCRIPTION:The Morgan Arts Council (MAC) is delighted to have Deni Bonet\, a singer/songwriter &virtuoso violinist and Chris Flynn an accomplished guitarist for the July 22\, 2023 Concert inthe Park. Together they play quirky\, melodic and fun folk-rock for all ages. They haveplayed to sold out concerts at Carnegie Hall. Deni appeared at The Great Wall of China\, theUnited Nations and the White House\, and has toured with Cyndi Lauper\, R.E.M.\, SarahMcLachlan and many others. \n\n\n\nDeni and Chris’ performances are irresistible for their charisma and musicality. CarnegieHall virtuosity intertwined with a rock-club vibe and intimacy. \n\n\n\nBring a blanket\, chairs\, or picnic for a great evening of free music in the park.All concerts start at 5:30 p.m. in Berkeley Springs State Park. \n\n\n\nThis year’s sponsors for the series include the WV Department of Arts\, Culture and History\,and the National Endowment for the Arts\, with approval from the WV Commission on theArts\, and local hotel/motel taxes. \n\n\n\nFind more information about Music in the Park at Berkeley Springs State Park on Facebook\,MAC Ice House.
URL:https://wvstateparks.com/event/concert-in-the-park-deni-bonet-chris-flynn-berkeley-springs/
LOCATION:Berkeley Springs State Park\, United States
END:VEVENT
END:VCALENDAR