BEGIN:VCALENDAR
VERSION:2.0
PRODID:-//West Virginia State Parks - ECPv6.15.17.1//NONSGML v1.0//EN
CALSCALE:GREGORIAN
METHOD:PUBLISH
X-WR-CALNAME:West Virginia State Parks
X-ORIGINAL-URL:https://wvstateparks.com
X-WR-CALDESC:Events for West Virginia State Parks
REFRESH-INTERVAL;VALUE=DURATION:PT1H
X-Robots-Tag:noindex
X-PUBLISHED-TTL:PT1H
BEGIN:VTIMEZONE
TZID:America/New_York
BEGIN:DAYLIGHT
TZOFFSETFROM:-0500
TZOFFSETTO:-0400
TZNAME:EDT
DTSTART:20220313T070000
END:DAYLIGHT
BEGIN:STANDARD
TZOFFSETFROM:-0400
TZOFFSETTO:-0500
TZNAME:EST
DTSTART:20221106T060000
END:STANDARD
BEGIN:DAYLIGHT
TZOFFSETFROM:-0500
TZOFFSETTO:-0400
TZNAME:EDT
DTSTART:20230312T070000
END:DAYLIGHT
BEGIN:STANDARD
TZOFFSETFROM:-0400
TZOFFSETTO:-0500
TZNAME:EST
DTSTART:20231105T060000
END:STANDARD
BEGIN:DAYLIGHT
TZOFFSETFROM:-0500
TZOFFSETTO:-0400
TZNAME:EDT
DTSTART:20240310T070000
END:DAYLIGHT
BEGIN:STANDARD
TZOFFSETFROM:-0400
TZOFFSETTO:-0500
TZNAME:EST
DTSTART:20241103T060000
END:STANDARD
END:VTIMEZONE
BEGIN:VEVENT
DTSTART;TZID=America/New_York:20230715T173000
DTEND;TZID=America/New_York:20230715T190000
DTSTAMP:20260421T072637
CREATED:20230515T160812Z
LAST-MODIFIED:20230515T160813Z
UID:26858-1689442200-1689447600@wvstateparks.com
SUMMARY:Concert in the Park - Cathy Fink & Marcy Marxer with Chao Tian: Berkeley Springs
DESCRIPTION:Cathy Fink & Marcy Marxer with Chao TianFrom China to Appalachia – Americana meets Classical \n\n\n\nThe Morgan Arts Council (MAC) welcomes GRAMMY Award winning American Rootsartists Cathy Fink & Marcy Marxer joining with Chinese classical hammered dulcimer playerChao Tian in a show that combines music from China to Appalachia and beyond.This concert is on Saturday\, July 15\, 2023 at Berkeley Springs State Park. \n\n\n\nInstrumentation includes yangqin (Chinese hammered dulcimer)\, gourd banjo\, five-stringbanjo\, ukulele\, guitars\, dumbek\, cello-banjo and mandolin. From China to Appalachia wasborne of a friendship and mutual love of musical exploration experienced in jam sessionsthat inspired a show speaking to the power of music to connect cultures. \n\n\n\nBring a blanket\, chairs\, or picnic for a great evening of free music in the park.All concerts start at 5:30 p.m. in Berkeley Springs State Park. \n\n\n\nThis year’s sponsors for the series include the WV Department of Arts\, Culture and History\,and the National Endowment for the Arts\, with approval from the WV Commission on theArts\, and local hotel/motel taxes. \n\n\n\nFind more information about Music in the Park at Berkeley Springs State Park on Facebook\,MAC Ice House.
URL:https://wvstateparks.com/event/concert-in-the-park-cathy-fink-marcy-marxer-with-chao-tian-berkeley-springs/
LOCATION:Berkeley Springs State Park\, United States
END:VEVENT
END:VCALENDAR