BEGIN:VCALENDAR
VERSION:2.0
PRODID:-//West Virginia State Parks - ECPv6.15.17.1//NONSGML v1.0//EN
CALSCALE:GREGORIAN
METHOD:PUBLISH
X-WR-CALNAME:West Virginia State Parks
X-ORIGINAL-URL:https://wvstateparks.com
X-WR-CALDESC:Events for West Virginia State Parks
REFRESH-INTERVAL;VALUE=DURATION:PT1H
X-Robots-Tag:noindex
X-PUBLISHED-TTL:PT1H
BEGIN:VTIMEZONE
TZID:America/New_York
BEGIN:DAYLIGHT
TZOFFSETFROM:-0500
TZOFFSETTO:-0400
TZNAME:EDT
DTSTART:20220313T070000
END:DAYLIGHT
BEGIN:STANDARD
TZOFFSETFROM:-0400
TZOFFSETTO:-0500
TZNAME:EST
DTSTART:20221106T060000
END:STANDARD
BEGIN:DAYLIGHT
TZOFFSETFROM:-0500
TZOFFSETTO:-0400
TZNAME:EDT
DTSTART:20230312T070000
END:DAYLIGHT
BEGIN:STANDARD
TZOFFSETFROM:-0400
TZOFFSETTO:-0500
TZNAME:EST
DTSTART:20231105T060000
END:STANDARD
BEGIN:DAYLIGHT
TZOFFSETFROM:-0500
TZOFFSETTO:-0400
TZNAME:EDT
DTSTART:20240310T070000
END:DAYLIGHT
BEGIN:STANDARD
TZOFFSETFROM:-0400
TZOFFSETTO:-0500
TZNAME:EST
DTSTART:20241103T060000
END:STANDARD
END:VTIMEZONE
BEGIN:VEVENT
DTSTART;TZID=America/New_York:20230712T103000
DTEND;TZID=America/New_York:20230712T150000
DTSTAMP:20260419T170937
CREATED:20230209T164950Z
LAST-MODIFIED:20230209T165448Z
UID:26659-1689157800-1689174000@wvstateparks.com
SUMMARY:Colonial Kids Day: Prickett’s Fort
DESCRIPTION:One of our most popular programs at Prickett’s Fort State Park is Colonial Kids Day.  This event  focuses on 18th century life through a child’s eyes.  Bring the kids to the fort to experience a full day of fun and educational activities. Activities will include daily chores in the fort\, life in the militia\, colonial children’s games\, and a craft in the Visitor Center. Children must be accompanied by an adult and regular admission applies. \n\n\n\nThis program/activity for children begins at 10:30AM until 3:00PM on Wednesday\, July 12\, 2023. \n\n\n\nIf you’re looking for a place to spend the night consider Tygart Lake State Park for lodge or cabin accommodations. \n\n\n\nFor more information about Prickett’s Fort State Park and Pricketts Fort Foundation\, call 304-363-3030 or visit the link included below. \n\n\n\n \n\n\n\nReserve lodging: \n\n\n\nBook Now
URL:https://wvstateparks.com/event/colonial-kids-day-pricketts-fort/
LOCATION:Prickett’s Fort State Park\, United States
END:VEVENT
END:VCALENDAR