BEGIN:VCALENDAR
VERSION:2.0
PRODID:-//West Virginia State Parks - ECPv6.15.17.1//NONSGML v1.0//EN
CALSCALE:GREGORIAN
METHOD:PUBLISH
X-WR-CALNAME:West Virginia State Parks
X-ORIGINAL-URL:https://wvstateparks.com
X-WR-CALDESC:Events for West Virginia State Parks
REFRESH-INTERVAL;VALUE=DURATION:PT1H
X-Robots-Tag:noindex
X-PUBLISHED-TTL:PT1H
BEGIN:VTIMEZONE
TZID:America/New_York
BEGIN:DAYLIGHT
TZOFFSETFROM:-0500
TZOFFSETTO:-0400
TZNAME:EDT
DTSTART:20220313T070000
END:DAYLIGHT
BEGIN:STANDARD
TZOFFSETFROM:-0400
TZOFFSETTO:-0500
TZNAME:EST
DTSTART:20221106T060000
END:STANDARD
BEGIN:DAYLIGHT
TZOFFSETFROM:-0500
TZOFFSETTO:-0400
TZNAME:EDT
DTSTART:20230312T070000
END:DAYLIGHT
BEGIN:STANDARD
TZOFFSETFROM:-0400
TZOFFSETTO:-0500
TZNAME:EST
DTSTART:20231105T060000
END:STANDARD
BEGIN:DAYLIGHT
TZOFFSETFROM:-0500
TZOFFSETTO:-0400
TZNAME:EDT
DTSTART:20240310T070000
END:DAYLIGHT
BEGIN:STANDARD
TZOFFSETFROM:-0400
TZOFFSETTO:-0500
TZNAME:EST
DTSTART:20241103T060000
END:STANDARD
END:VTIMEZONE
BEGIN:VEVENT
DTSTART;TZID=America/New_York:20230617T130000
DTEND;TZID=America/New_York:20230617T140000
DTSTAMP:20260419T115841
CREATED:20230426T201948Z
LAST-MODIFIED:20230426T201949Z
UID:26819-1687006800-1687010400@wvstateparks.com
SUMMARY:Children of the Blennerhassett Mansion: Blennerhassett Island
DESCRIPTION:Learn about the children of this famous Blennerhassett Island Family.  This program is designed for young people (in grades 3-6) accompanied by parent(s) or grandparent(s). This is a wonderful opportunity for youth and families to engage in the history of Blennerhassett Island and occupants of the island. Join us on Saturday\, June 17\, 2023 at 1:00 p.m.  \nWhat were these children’s names and ages\, where was their bedroom in the house\, and why was one of them nicknamed “Little Snowdrop?” \nThis parent/child educational event includes a Special Mansion Tour and Outdoor Activities. Participants will explore the various rooms of the Mansion from a child’s perspective and learn more about the Blennerhassett children’s parents. At the end of this tour\, the youth will compare the Mansion with their own homes to recognize what things are different then and now.  \nWe’ll play some period games that the Blennerhassett children might have played and learn a children’s song from an earlier time. It will be a fun day at Blennerhassett Island. The cost of this one-hour event is $5.00 for adults and $3.00 for kids. Space is limited. It is a rain or shine event.  \nCall the Blennerhassett Island Historical State Park  Museum at 304-420-4800 if you have questions.
URL:https://wvstateparks.com/event/children-of-the-blennerhassett-mansion-blennerhassett-island/
LOCATION:Blennerhassett Island State Park\, United States
END:VEVENT
END:VCALENDAR