BEGIN:VCALENDAR
VERSION:2.0
PRODID:-//West Virginia State Parks - ECPv6.15.17.1//NONSGML v1.0//EN
CALSCALE:GREGORIAN
METHOD:PUBLISH
X-WR-CALNAME:West Virginia State Parks
X-ORIGINAL-URL:https://wvstateparks.com
X-WR-CALDESC:Events for West Virginia State Parks
REFRESH-INTERVAL;VALUE=DURATION:PT1H
X-Robots-Tag:noindex
X-PUBLISHED-TTL:PT1H
BEGIN:VTIMEZONE
TZID:America/New_York
BEGIN:DAYLIGHT
TZOFFSETFROM:-0500
TZOFFSETTO:-0400
TZNAME:EDT
DTSTART:20220313T070000
END:DAYLIGHT
BEGIN:STANDARD
TZOFFSETFROM:-0400
TZOFFSETTO:-0500
TZNAME:EST
DTSTART:20221106T060000
END:STANDARD
BEGIN:DAYLIGHT
TZOFFSETFROM:-0500
TZOFFSETTO:-0400
TZNAME:EDT
DTSTART:20230312T070000
END:DAYLIGHT
BEGIN:STANDARD
TZOFFSETFROM:-0400
TZOFFSETTO:-0500
TZNAME:EST
DTSTART:20231105T060000
END:STANDARD
BEGIN:DAYLIGHT
TZOFFSETFROM:-0500
TZOFFSETTO:-0400
TZNAME:EDT
DTSTART:20240310T070000
END:DAYLIGHT
BEGIN:STANDARD
TZOFFSETFROM:-0400
TZOFFSETTO:-0500
TZNAME:EST
DTSTART:20241103T060000
END:STANDARD
END:VTIMEZONE
BEGIN:VEVENT
DTSTART;TZID=America/New_York:20230707T200000
DTEND;TZID=America/New_York:20230708T220000
DTSTAMP:20260419T170831
CREATED:20230421T172256Z
LAST-MODIFIED:20230706T224820Z
UID:26809-1688760000-1688853600@wvstateparks.com
SUMMARY:“Bug Bash” - All about bugs Weekend: Chief Logan
DESCRIPTION:The annual “Bug Bash” Weekend at Chief Logan State Park Lodge is July 7-9\, 2023. Assistant Superintendent Lauren Cole invites all ages to join her for some excitement about fascinating wildlife commonly known as “bugs.” “We are not bashing or mashing anything. We are learning about arthropods\, butterflies\, moths\, fireflies and other insects in a fun way” says Cole. “Bug Bash” is Friday\, July 7 and Saturday\, July 8\, 2023 from 8:00 – 10:00 pm. \n“Bug Bash” weekend activities may include a big bug jar\, insect luring\, arthropod jeopardy\, butterfly bag toss and Monarch masquerade craft\, firefly glow activity and gardening for pollinators.  \nActivities are in or begin in the Conference Room at Chief Logan Lodge. There will be an insect luring light set up in the gazebo or the back patio where we hope to discover moths and other more nocturnal insects. We encourage use of a camera to capture insect images that we use to identify unusual finds. Children must bring a parent or guardian with them. All Bug Bash activities are free to attend. Open to the public. \nFor more information contact Lauren.E.Cole@wv.gov. \nReserve lodging: \nBook Now
URL:https://wvstateparks.com/event/bug-bash-all-about-bugs-weekend-chief-logan/
LOCATION:Chief Logan State Park\, United States
END:VEVENT
END:VCALENDAR