BEGIN:VCALENDAR
VERSION:2.0
PRODID:-//West Virginia State Parks - ECPv6.15.17.1//NONSGML v1.0//EN
CALSCALE:GREGORIAN
METHOD:PUBLISH
X-WR-CALNAME:West Virginia State Parks
X-ORIGINAL-URL:https://wvstateparks.com
X-WR-CALDESC:Events for West Virginia State Parks
REFRESH-INTERVAL;VALUE=DURATION:PT1H
X-Robots-Tag:noindex
X-PUBLISHED-TTL:PT1H
BEGIN:VTIMEZONE
TZID:America/New_York
BEGIN:DAYLIGHT
TZOFFSETFROM:-0500
TZOFFSETTO:-0400
TZNAME:EDT
DTSTART:20220313T070000
END:DAYLIGHT
BEGIN:STANDARD
TZOFFSETFROM:-0400
TZOFFSETTO:-0500
TZNAME:EST
DTSTART:20221106T060000
END:STANDARD
BEGIN:DAYLIGHT
TZOFFSETFROM:-0500
TZOFFSETTO:-0400
TZNAME:EDT
DTSTART:20230312T070000
END:DAYLIGHT
BEGIN:STANDARD
TZOFFSETFROM:-0400
TZOFFSETTO:-0500
TZNAME:EST
DTSTART:20231105T060000
END:STANDARD
BEGIN:DAYLIGHT
TZOFFSETFROM:-0500
TZOFFSETTO:-0400
TZNAME:EDT
DTSTART:20240310T070000
END:DAYLIGHT
BEGIN:STANDARD
TZOFFSETFROM:-0400
TZOFFSETTO:-0500
TZNAME:EST
DTSTART:20241103T060000
END:STANDARD
END:VTIMEZONE
BEGIN:VEVENT
DTSTART;TZID=America/New_York:20230526T000000
DTEND;TZID=America/New_York:20230528T235959
DTSTAMP:20260421T043140
CREATED:20230426T203332Z
LAST-MODIFIED:20230426T204018Z
UID:26826-1685059200-1685318399@wvstateparks.com
SUMMARY:ArtSpring Activities: Blackwater Falls
DESCRIPTION:ArtSpring in Tucker County is May 26 – 28\, 2023. A variety of activities and events are plannedin Thomas\, Davis\, Canaan Valley and Parsons\, West Virginia. Enjoy these activities atBlackwater Falls State Park\, Sunday\, May 28\, 2023. \n\n\n\nSunday\, May 28\, 202311:00 a.m.Oh\, honeybee! and Candle CraftJoin the staff to discover the life of our state insect\, where it came from\, how it became our stateinsect and more while creating a votive candle using beeswax. You don’t have to craft to takeadvantage of the program information. Can you identify any other bees found in West Virginia?Limited space available. Pre-registration recommended for this craft. Craft fee: $4.00Activities at Blackwater Falls State Park are held at the Nature Center with Paulita Cousin\, ParkNaturalist and host.Learn more about ArtSpring and other activities in Tucker County athttps://www.artspringwv.com/. \n\n\n\nReserve lodging: \n\n\n\nBook Now
URL:https://wvstateparks.com/event/blennerhassett-mansion-foodways-special-tour-blennerhassett-island/
LOCATION:Blackwater Falls State Park\, United States
END:VEVENT
END:VCALENDAR