BEGIN:VCALENDAR
VERSION:2.0
PRODID:-//West Virginia State Parks - ECPv6.15.17.1//NONSGML v1.0//EN
CALSCALE:GREGORIAN
METHOD:PUBLISH
X-WR-CALNAME:West Virginia State Parks
X-ORIGINAL-URL:https://wvstateparks.com
X-WR-CALDESC:Events for West Virginia State Parks
REFRESH-INTERVAL;VALUE=DURATION:PT1H
X-Robots-Tag:noindex
X-PUBLISHED-TTL:PT1H
BEGIN:VTIMEZONE
TZID:America/New_York
BEGIN:DAYLIGHT
TZOFFSETFROM:-0500
TZOFFSETTO:-0400
TZNAME:EDT
DTSTART:20220313T070000
END:DAYLIGHT
BEGIN:STANDARD
TZOFFSETFROM:-0400
TZOFFSETTO:-0500
TZNAME:EST
DTSTART:20221106T060000
END:STANDARD
BEGIN:DAYLIGHT
TZOFFSETFROM:-0500
TZOFFSETTO:-0400
TZNAME:EDT
DTSTART:20230312T070000
END:DAYLIGHT
BEGIN:STANDARD
TZOFFSETFROM:-0400
TZOFFSETTO:-0500
TZNAME:EST
DTSTART:20231105T060000
END:STANDARD
BEGIN:DAYLIGHT
TZOFFSETFROM:-0500
TZOFFSETTO:-0400
TZNAME:EDT
DTSTART:20240310T070000
END:DAYLIGHT
BEGIN:STANDARD
TZOFFSETFROM:-0400
TZOFFSETTO:-0500
TZNAME:EST
DTSTART:20241103T060000
END:STANDARD
END:VTIMEZONE
BEGIN:VEVENT
DTSTART;TZID=America/New_York:20230715T130000
DTEND;TZID=America/New_York:20230715T140000
DTSTAMP:20260421T043120
CREATED:20230507T165419Z
LAST-MODIFIED:20230507T165420Z
UID:26855-1689426000-1689429600@wvstateparks.com
SUMMARY:Blennerhassett Mansion Foodways Special Tour: Blennerhassett Island
DESCRIPTION:This special Mansion Foodways Tour explains the role that food played in the daily lives of theBlennerhassett family and their neighbors. Join us on Saturday\, July 15\, 2023 at 1:00 p.m. onBlennerhasset Island. \n\n\n\nThe term Foodways is defined as an in-depth look at people (the Blennerhassett Family) in alocation (Blennerhassett Island) and examines the procurement\, the preparation\, and thepresentation of food on their table. \n\n\n\nAs the tour participants walks through the Mansion we will learn about the foods of the timeperiod and how the success of social entertainment at the Blennerhassett Mansion dependsupon food whether it was a dinner in the formal Dining Room\, Tea in the Parlor\, or refreshmentsat an Evening of Dancing. Explore seasonality\, cooking methods\, and food preservation in theSummer Kitchen. Step back in time with us. This is an exceptional tour and unique to theisland. \n\n\n\nThe cost of this one-hour event is $5.00 for adults. Call the Blennerhassett Island HistoricalState Park museum at 304-420-4800 if you have questions.
URL:https://wvstateparks.com/event/blennerhassett-mansion-foodways-special-tour-blennerhassett-island-2/
LOCATION:Blennerhassett Island State Park\, United States
END:VEVENT
END:VCALENDAR