BEGIN:VCALENDAR
VERSION:2.0
PRODID:-//West Virginia State Parks - ECPv6.15.17.1//NONSGML v1.0//EN
CALSCALE:GREGORIAN
METHOD:PUBLISH
X-WR-CALNAME:West Virginia State Parks
X-ORIGINAL-URL:https://wvstateparks.com
X-WR-CALDESC:Events for West Virginia State Parks
REFRESH-INTERVAL;VALUE=DURATION:PT1H
X-Robots-Tag:noindex
X-PUBLISHED-TTL:PT1H
BEGIN:VTIMEZONE
TZID:America/New_York
BEGIN:DAYLIGHT
TZOFFSETFROM:-0500
TZOFFSETTO:-0400
TZNAME:EDT
DTSTART:20220313T070000
END:DAYLIGHT
BEGIN:STANDARD
TZOFFSETFROM:-0400
TZOFFSETTO:-0500
TZNAME:EST
DTSTART:20221106T060000
END:STANDARD
BEGIN:DAYLIGHT
TZOFFSETFROM:-0500
TZOFFSETTO:-0400
TZNAME:EDT
DTSTART:20230312T070000
END:DAYLIGHT
BEGIN:STANDARD
TZOFFSETFROM:-0400
TZOFFSETTO:-0500
TZNAME:EST
DTSTART:20231105T060000
END:STANDARD
BEGIN:DAYLIGHT
TZOFFSETFROM:-0500
TZOFFSETTO:-0400
TZNAME:EDT
DTSTART:20240310T070000
END:DAYLIGHT
BEGIN:STANDARD
TZOFFSETFROM:-0400
TZOFFSETTO:-0500
TZNAME:EST
DTSTART:20241103T060000
END:STANDARD
END:VTIMEZONE
BEGIN:VEVENT
DTSTART;TZID=America/New_York:20230826T190000
DTEND;TZID=America/New_York:20230826T200000
DTSTAMP:20260419T133808
CREATED:20230307T173927Z
LAST-MODIFIED:20230307T173927Z
UID:26719-1693076400-1693080000@wvstateparks.com
SUMMARY:Bil Lepp Live! : Twin Falls
DESCRIPTION:Bil Lepp is a master storyteller\, champion liar\, funny guy\, author\, and tv host. Lepp is live at Twin Falls State Park\, August 26\, 2023. His humorous tales curl the lips on the grumpiest of people. Sure to tickle your funny bone\, the laughter and show begins at 7:00 p.m. at Twin Falls Lodge\, in the courtyard. What better place to enjoy this stand up comedian and storyteller. This evening program is about an hour or a tad longer\, give or take a snicker and a grin. \nBring the family if you’re from the area for this fun hour or leave your lodge room\, camper or cabin and join us. Turn off the mobile devices and find live entertainment at Twin Falls. There is no charge and everyone is welcome. \nBil Lepp was a recent History® Channel host. “Man vs. History”was a series that followed Bil as he traveled off the beaten path across the country to discover the truth behind mysteries and legends of American history. Each episode Bil investigated\, decoded and debunked iconic subjects and figures like Billy the Kid\, Johnny Appleseed\, Davy Crockett\, Houdini and more. Whether speaking to experts\, handling artifacts or testing historical weapons\, Bil worked to determine if the story in question was fact\, fiction or somewhere in-between. \nCome out for an evening of grins and giggles at Twin Falls State Park. Your evening host is Tammy Cooper\, Naturalist and other park staff. Fee free. Open to the public. All ages are welcome. \nReserve lodging: \nBook Now
URL:https://wvstateparks.com/event/bil-lepp-live-twin-falls/
LOCATION:Twin Falls Resort State Park\, United States
END:VEVENT
END:VCALENDAR