BEGIN:VCALENDAR
VERSION:2.0
PRODID:-//West Virginia State Parks - ECPv6.15.17.1//NONSGML v1.0//EN
CALSCALE:GREGORIAN
METHOD:PUBLISH
X-WR-CALNAME:West Virginia State Parks
X-ORIGINAL-URL:https://wvstateparks.com
X-WR-CALDESC:Events for West Virginia State Parks
REFRESH-INTERVAL;VALUE=DURATION:PT1H
X-Robots-Tag:noindex
X-PUBLISHED-TTL:PT1H
BEGIN:VTIMEZONE
TZID:America/New_York
BEGIN:DAYLIGHT
TZOFFSETFROM:-0500
TZOFFSETTO:-0400
TZNAME:EDT
DTSTART:20220313T070000
END:DAYLIGHT
BEGIN:STANDARD
TZOFFSETFROM:-0400
TZOFFSETTO:-0500
TZNAME:EST
DTSTART:20221106T060000
END:STANDARD
BEGIN:DAYLIGHT
TZOFFSETFROM:-0500
TZOFFSETTO:-0400
TZNAME:EDT
DTSTART:20230312T070000
END:DAYLIGHT
BEGIN:STANDARD
TZOFFSETFROM:-0400
TZOFFSETTO:-0500
TZNAME:EST
DTSTART:20231105T060000
END:STANDARD
BEGIN:DAYLIGHT
TZOFFSETFROM:-0500
TZOFFSETTO:-0400
TZNAME:EDT
DTSTART:20240310T070000
END:DAYLIGHT
BEGIN:STANDARD
TZOFFSETFROM:-0400
TZOFFSETTO:-0500
TZNAME:EST
DTSTART:20241103T060000
END:STANDARD
END:VTIMEZONE
BEGIN:VEVENT
DTSTART;TZID=America/New_York:20230720T190000
DTEND;TZID=America/New_York:20230720T200000
DTSTAMP:20260419T115222
CREATED:20230328T232404Z
LAST-MODIFIED:20230328T232432Z
UID:26770-1689879600-1689883200@wvstateparks.com
SUMMARY:Bil Lepp Live!: Blackwater Falls
DESCRIPTION:WV’s favorite storyteller and humorous liar\, Bil Lepp is at Blackwater Falls State Park on Thursday\, July 20\, 2023 at 7:00PM.  Mark your calendars for this Thursday evening show. \nHis humorous tales curl the lips on the grumpiest of people. Sure to tickle your funny bone\, the laughter and show is staged at Blackwater Falls Lodge\, conference center.  This program is about an hour or a tad longer.   \nBring the family if you’re from the area for this fun hour.  If you are an overnight guest at Blackwater Falls\, leave the camper\, your cabin or the lodge room and join us. There is no charge and everyone is welcome.  The program is open to the public.  \nLepp is an author of children’s books\, audio tapes of tall and perhaps true stories and a champion liar. He was a recent History® Channel host.  “Man vs. History” was a series that followed Bil as he traveled off the beaten path across the country to discover the truth behind mysteries and legends of American history. Each episode Bil investigated\, decoded and debunked iconic subjects and figures like Billy the Kid\, Johnny Appleseed\, Davy Crockett\, Houdini and more. Whether speaking to experts\, handling artifacts or testing historical weapons\, Bil worked to determine if the story in question was fact\, fiction or somewhere in-between. \nCome out for an evening of grins and giggles at Blackwater Falls State Park.  Fee free.  Open to the public. All ages are welcome. [If you miss Bill at Blackwater Falls\, you’ll find him at Tygart Lake tomorrow on July 21\, 2023.  Hope to see you at one or the other or both.]
URL:https://wvstateparks.com/event/bil-lepp-live-blackwater-falls-2/
LOCATION:Blackwater Falls State Park\, United States
END:VEVENT
END:VCALENDAR