BEGIN:VCALENDAR
VERSION:2.0
PRODID:-//West Virginia State Parks - ECPv6.15.17.1//NONSGML v1.0//EN
CALSCALE:GREGORIAN
METHOD:PUBLISH
X-WR-CALNAME:West Virginia State Parks
X-ORIGINAL-URL:https://wvstateparks.com
X-WR-CALDESC:Events for West Virginia State Parks
REFRESH-INTERVAL;VALUE=DURATION:PT1H
X-Robots-Tag:noindex
X-PUBLISHED-TTL:PT1H
BEGIN:VTIMEZONE
TZID:America/New_York
BEGIN:DAYLIGHT
TZOFFSETFROM:-0500
TZOFFSETTO:-0400
TZNAME:EDT
DTSTART:20220313T070000
END:DAYLIGHT
BEGIN:STANDARD
TZOFFSETFROM:-0400
TZOFFSETTO:-0500
TZNAME:EST
DTSTART:20221106T060000
END:STANDARD
BEGIN:DAYLIGHT
TZOFFSETFROM:-0500
TZOFFSETTO:-0400
TZNAME:EDT
DTSTART:20230312T070000
END:DAYLIGHT
BEGIN:STANDARD
TZOFFSETFROM:-0400
TZOFFSETTO:-0500
TZNAME:EST
DTSTART:20231105T060000
END:STANDARD
BEGIN:DAYLIGHT
TZOFFSETFROM:-0500
TZOFFSETTO:-0400
TZNAME:EDT
DTSTART:20240310T070000
END:DAYLIGHT
BEGIN:STANDARD
TZOFFSETFROM:-0400
TZOFFSETTO:-0500
TZNAME:EST
DTSTART:20241103T060000
END:STANDARD
END:VTIMEZONE
BEGIN:VEVENT
DTSTART;TZID=America/New_York:20230722T000000
DTEND;TZID=America/New_York:20230723T235959
DTSTAMP:20260419T115716
CREATED:20230214T194516Z
LAST-MODIFIED:20230214T194516Z
UID:26676-1689984000-1690156799@wvstateparks.com
SUMMARY:Artist in Residence - Lindsey Dugan: Prickett’s Fort
DESCRIPTION:Prickett’s Fort State Park welcomes Lindsey Dugan as one of Pricketts Fort Foundation’s artists in residence in 2023. Join her Saturday\, July 22\, 2023 from 10:00AM-4:00PM and Sunday\, July 23 from Noon until 4:00PM. You’ll find this artist at the Visitor Center. \nLindsey is a contemporary artisan who lives in Fairmont\, West Virginia. A native of Michigan and earning a Fine Arts degree in Communication Design from the College for Creative Studies in Detroit. Lindsey’s hand painted jewelry pays homage to the Appalachia and Great Lakes Regions. \nFor more information about Prickett’s Fort State Park and Pricketts Fort Foundation\, call 304-363-3030 or visit the link included below. \nPrickett’s Fort is a day use park. Consider lodging nearby at Tygart Lake State Park. \nReserve lodging: \nBook Now
URL:https://wvstateparks.com/event/artist-in-residence-lindsey-dugan-pricketts-fort/
LOCATION:Prickett’s Fort State Park\, United States
END:VEVENT
END:VCALENDAR