BEGIN:VCALENDAR
VERSION:2.0
PRODID:-//West Virginia State Parks - ECPv6.15.17.1//NONSGML v1.0//EN
CALSCALE:GREGORIAN
METHOD:PUBLISH
X-WR-CALNAME:West Virginia State Parks
X-ORIGINAL-URL:https://wvstateparks.com
X-WR-CALDESC:Events for West Virginia State Parks
REFRESH-INTERVAL;VALUE=DURATION:PT1H
X-Robots-Tag:noindex
X-PUBLISHED-TTL:PT1H
BEGIN:VTIMEZONE
TZID:America/New_York
BEGIN:DAYLIGHT
TZOFFSETFROM:-0500
TZOFFSETTO:-0400
TZNAME:EDT
DTSTART:20220313T070000
END:DAYLIGHT
BEGIN:STANDARD
TZOFFSETFROM:-0400
TZOFFSETTO:-0500
TZNAME:EST
DTSTART:20221106T060000
END:STANDARD
BEGIN:DAYLIGHT
TZOFFSETFROM:-0500
TZOFFSETTO:-0400
TZNAME:EDT
DTSTART:20230312T070000
END:DAYLIGHT
BEGIN:STANDARD
TZOFFSETFROM:-0400
TZOFFSETTO:-0500
TZNAME:EST
DTSTART:20231105T060000
END:STANDARD
BEGIN:DAYLIGHT
TZOFFSETFROM:-0500
TZOFFSETTO:-0400
TZNAME:EDT
DTSTART:20240310T070000
END:DAYLIGHT
BEGIN:STANDARD
TZOFFSETFROM:-0400
TZOFFSETTO:-0500
TZNAME:EST
DTSTART:20241103T060000
END:STANDARD
END:VTIMEZONE
BEGIN:VEVENT
DTSTART;TZID=America/New_York:20230621T000000
DTEND;TZID=America/New_York:20230625T235900
DTSTAMP:20260419T134205
CREATED:20230214T194430Z
LAST-MODIFIED:20230825T172509Z
UID:26675-1687305600-1687737540@wvstateparks.com
SUMMARY:Artist in Residence - Joel Dugan: Prickett’s Fort
DESCRIPTION:Once again\, Prickett’s Fort State Park welcomes Joel Dugan as part of Pricketts Fort Foundation’s artist in residence program. Join him Wednesday – Saturday\, June 21 – 24\, 2023 from 10:00AM-4:00PM and Sunday June 25 from Noon until 4:00PM. \nJoel currently resides in Fairmont\, West Virginia with his family and serves as the Chair for the Department of Architecture Art and Design at Fairmont State University. Joel will be painting his interpretation of different scenes throughout the park as well as a hands-on project during our Colonial Kids Day on June 21\, 2023. \nFor more information about Prickett’s Fort State Park and Pricketts Fort Foundation\, call 30- 363-3030 or visit the link included below. \nPrickett’s Fort is a day use park. Consider lodging nearby at Tygart Lake State Park. \nReserve lodging: \nBook Now
URL:https://wvstateparks.com/event/artist-in-residence-joel-dugan-pricketts-fort/
LOCATION:Prickett’s Fort State Park\, United States
END:VEVENT
END:VCALENDAR