BEGIN:VCALENDAR
VERSION:2.0
PRODID:-//West Virginia State Parks - ECPv6.15.17.1//NONSGML v1.0//EN
CALSCALE:GREGORIAN
METHOD:PUBLISH
X-WR-CALNAME:West Virginia State Parks
X-ORIGINAL-URL:https://wvstateparks.com
X-WR-CALDESC:Events for West Virginia State Parks
REFRESH-INTERVAL;VALUE=DURATION:PT1H
X-Robots-Tag:noindex
X-PUBLISHED-TTL:PT1H
BEGIN:VTIMEZONE
TZID:America/New_York
BEGIN:DAYLIGHT
TZOFFSETFROM:-0500
TZOFFSETTO:-0400
TZNAME:EDT
DTSTART:20220313T070000
END:DAYLIGHT
BEGIN:STANDARD
TZOFFSETFROM:-0400
TZOFFSETTO:-0500
TZNAME:EST
DTSTART:20221106T060000
END:STANDARD
BEGIN:DAYLIGHT
TZOFFSETFROM:-0500
TZOFFSETTO:-0400
TZNAME:EDT
DTSTART:20230312T070000
END:DAYLIGHT
BEGIN:STANDARD
TZOFFSETFROM:-0400
TZOFFSETTO:-0500
TZNAME:EST
DTSTART:20231105T060000
END:STANDARD
BEGIN:DAYLIGHT
TZOFFSETFROM:-0500
TZOFFSETTO:-0400
TZNAME:EDT
DTSTART:20240310T070000
END:DAYLIGHT
BEGIN:STANDARD
TZOFFSETFROM:-0400
TZOFFSETTO:-0500
TZNAME:EST
DTSTART:20241103T060000
END:STANDARD
END:VTIMEZONE
BEGIN:VEVENT
DTSTART;TZID=America/New_York:20230521T120000
DTEND;TZID=America/New_York:20230521T150000
DTSTAMP:20260419T172424
CREATED:20230512T153813Z
LAST-MODIFIED:20230512T153813Z
UID:26856-1684670400-1684681200@wvstateparks.com
SUMMARY:Art on the Island - Poppy: Blennerhassett
DESCRIPTION:Celebrate the first Art on the Island painting parties with an amazing poppy painting\, just in time to represent Memorial Day. Art on the Island Poppy is on May 21\, 2023. Take the noon boat\, bring or buy some snacks on the Island\, and let’s paint this oversized acrylic flower together on a gallery wrapped canvas. Class typically takes about 2 hours. Ages 16+\, 8 spaces available.   \nThe fee is $42 and includes the instructional painting and materials with Tracy Love and the sternwheeler boat ticket to and from the island. \nArt on the Island activities is sponsored by The Parkersburg Art Center\, 304.485.3856 or info@parkersburgartcenter.org.  Please register for the class in advance.
URL:https://wvstateparks.com/event/art-on-the-island-poppy-blennerhassett-2/
LOCATION:Blennerhassett Island State Park\, United States
END:VEVENT
END:VCALENDAR