BEGIN:VCALENDAR
VERSION:2.0
PRODID:-//West Virginia State Parks - ECPv6.15.17.1//NONSGML v1.0//EN
CALSCALE:GREGORIAN
METHOD:PUBLISH
X-WR-CALNAME:West Virginia State Parks
X-ORIGINAL-URL:https://wvstateparks.com
X-WR-CALDESC:Events for West Virginia State Parks
REFRESH-INTERVAL;VALUE=DURATION:PT1H
X-Robots-Tag:noindex
X-PUBLISHED-TTL:PT1H
BEGIN:VTIMEZONE
TZID:America/New_York
BEGIN:DAYLIGHT
TZOFFSETFROM:-0500
TZOFFSETTO:-0400
TZNAME:EDT
DTSTART:20220313T070000
END:DAYLIGHT
BEGIN:STANDARD
TZOFFSETFROM:-0400
TZOFFSETTO:-0500
TZNAME:EST
DTSTART:20221106T060000
END:STANDARD
BEGIN:DAYLIGHT
TZOFFSETFROM:-0500
TZOFFSETTO:-0400
TZNAME:EDT
DTSTART:20230312T070000
END:DAYLIGHT
BEGIN:STANDARD
TZOFFSETFROM:-0400
TZOFFSETTO:-0500
TZNAME:EST
DTSTART:20231105T060000
END:STANDARD
BEGIN:DAYLIGHT
TZOFFSETFROM:-0500
TZOFFSETTO:-0400
TZNAME:EDT
DTSTART:20240310T070000
END:DAYLIGHT
BEGIN:STANDARD
TZOFFSETFROM:-0400
TZOFFSETTO:-0500
TZNAME:EST
DTSTART:20241103T060000
END:STANDARD
END:VTIMEZONE
BEGIN:VEVENT
DTSTART;TZID=America/New_York:20230924T120000
DTEND;TZID=America/New_York:20230924T150000
DTSTAMP:20260421T044123
CREATED:20230505T120833Z
LAST-MODIFIED:20230505T120834Z
UID:26851-1695556800-1695567600@wvstateparks.com
SUMMARY:Art on the Island - Fall & Moonlight: Blennerhassett
DESCRIPTION:Welcome the perfect visual of Fall and Moonlight at the Mansion\, with this acrylic canvas of aglowing lantern\, leaves and those wonderful warm colors of yellows\, oranges and reds. \n\n\n\nArt on the Island-Fall and Moonlight at the Mansion is on Sunday\, September 24\, 2023. Take thenoon boat\, bring or buy some snacks on the Island\, and let’s paint this oversized acrylic flowertogether on a gallery wrapped canvas. Class typically takes about 2 hours. Ages 16+\, 8 spacesavailable. The fee is $42 and includes the instructional painting and materials with Tracy Loveand the sternwheeler boat ticket to and from the island. This is the final Art on the Island classscheduled in 2023. \n\n\n\nArt on the Island activities is sponsored by The Parkersburg Art Center\, 304.485.3856 orinfo@parkersburgartcenter.org. Advance registration is necessary.
URL:https://wvstateparks.com/event/art-on-the-island-fall-moonlight-blennerhassett/
LOCATION:Blennerhassett Island State Park\, United States
END:VEVENT
END:VCALENDAR