BEGIN:VCALENDAR
VERSION:2.0
PRODID:-//West Virginia State Parks - ECPv6.15.17.1//NONSGML v1.0//EN
CALSCALE:GREGORIAN
METHOD:PUBLISH
X-WR-CALNAME:West Virginia State Parks
X-ORIGINAL-URL:https://wvstateparks.com
X-WR-CALDESC:Events for West Virginia State Parks
REFRESH-INTERVAL;VALUE=DURATION:PT1H
X-Robots-Tag:noindex
X-PUBLISHED-TTL:PT1H
BEGIN:VTIMEZONE
TZID:America/New_York
BEGIN:DAYLIGHT
TZOFFSETFROM:-0500
TZOFFSETTO:-0400
TZNAME:EDT
DTSTART:20220313T070000
END:DAYLIGHT
BEGIN:STANDARD
TZOFFSETFROM:-0400
TZOFFSETTO:-0500
TZNAME:EST
DTSTART:20221106T060000
END:STANDARD
BEGIN:DAYLIGHT
TZOFFSETFROM:-0500
TZOFFSETTO:-0400
TZNAME:EDT
DTSTART:20230312T070000
END:DAYLIGHT
BEGIN:STANDARD
TZOFFSETFROM:-0400
TZOFFSETTO:-0500
TZNAME:EST
DTSTART:20231105T060000
END:STANDARD
BEGIN:DAYLIGHT
TZOFFSETFROM:-0500
TZOFFSETTO:-0400
TZNAME:EDT
DTSTART:20240310T070000
END:DAYLIGHT
BEGIN:STANDARD
TZOFFSETFROM:-0400
TZOFFSETTO:-0500
TZNAME:EST
DTSTART:20241103T060000
END:STANDARD
END:VTIMEZONE
BEGIN:VEVENT
DTSTART;TZID=America/New_York:20230820T120000
DTEND;TZID=America/New_York:20230820T150000
DTSTAMP:20260419T153246
CREATED:20230505T160902Z
LAST-MODIFIED:20230505T160902Z
UID:26852-1692532800-1692543600@wvstateparks.com
SUMMARY:Art on the Island - Dragonfly: Blennerhassett
DESCRIPTION:One of the coolest flying creations of all time has to be the dragonfly. Together\, we will paint one inbeautiful shades of blues and greens and make some 3D mesh wings too! \n\n\n\nArt on the Island-Dragonfly is on Sunday\, August 20\, 2023. Take the noon boat\, bring or buysome snacks on the Island\, and let’s paint this oversized acrylic flower together on a gallerywrapped canvas. Class typically takes about 2 hours. Ages 16+\, 8 spaces available. The fee is$42 and includes the instructional painting and materials with Tracy Love and the sternwheelerboat ticket to and from the island. \n\n\n\nArt on the Island activities is sponsored by The Parkersburg Art Center\, 304.485.3856 orinfo@parkersburgartcenter.org. Advance registration is necessary.
URL:https://wvstateparks.com/event/art-on-the-island-dragonfly-blennerhassett/
LOCATION:Blennerhassett Island State Park\, United States
END:VEVENT
END:VCALENDAR