BEGIN:VCALENDAR
VERSION:2.0
PRODID:-//West Virginia State Parks - ECPv6.15.17.1//NONSGML v1.0//EN
CALSCALE:GREGORIAN
METHOD:PUBLISH
X-WR-CALNAME:West Virginia State Parks
X-ORIGINAL-URL:https://wvstateparks.com
X-WR-CALDESC:Events for West Virginia State Parks
REFRESH-INTERVAL;VALUE=DURATION:PT1H
X-Robots-Tag:noindex
X-PUBLISHED-TTL:PT1H
BEGIN:VTIMEZONE
TZID:America/New_York
BEGIN:DAYLIGHT
TZOFFSETFROM:-0500
TZOFFSETTO:-0400
TZNAME:EDT
DTSTART:20220313T070000
END:DAYLIGHT
BEGIN:STANDARD
TZOFFSETFROM:-0400
TZOFFSETTO:-0500
TZNAME:EST
DTSTART:20221106T060000
END:STANDARD
BEGIN:DAYLIGHT
TZOFFSETFROM:-0500
TZOFFSETTO:-0400
TZNAME:EDT
DTSTART:20230312T070000
END:DAYLIGHT
BEGIN:STANDARD
TZOFFSETFROM:-0400
TZOFFSETTO:-0500
TZNAME:EST
DTSTART:20231105T060000
END:STANDARD
BEGIN:DAYLIGHT
TZOFFSETFROM:-0500
TZOFFSETTO:-0400
TZNAME:EDT
DTSTART:20240310T070000
END:DAYLIGHT
BEGIN:STANDARD
TZOFFSETFROM:-0400
TZOFFSETTO:-0500
TZNAME:EST
DTSTART:20241103T060000
END:STANDARD
END:VTIMEZONE
BEGIN:VEVENT
DTSTART;TZID=America/New_York:20230806T100000
DTEND;TZID=America/New_York:20230806T160000
DTSTAMP:20260419T172101
CREATED:20230412T124404Z
LAST-MODIFIED:20230412T124405Z
UID:26798-1691316000-1691337600@wvstateparks.com
SUMMARY:Art-in-the-Park: Berkeley Springs
DESCRIPTION:The 16th annual Art-in-the-Park series is a juried art fair that provides public access to fine artisans located in the Berkeley Springs region of West Virginia. Nationally known artists exhibit at this event\, and the best part is artisans are local residents. \n\n\n\nShows are rain or shine from 10:00 a.m. – 4:00 p.m. and located across the street from the Farmers Market. Art-in-the-Park is free to attend and open to the public. Art-in-the-Park is scheduled for ten Sunday dates in 2023. \n\n\n\nThe event is organized and sponsored by an arts group and the host site is Berkeley Springs State Park  –  find more information on Facebook at Art In The Park WV (at Berkeley Springs) or email the event organized at nathan258@frontier.com. \n\n\n\nWhen planning your trip to attend Art in the Park at Berkeley Springs State Park\, stay at nearby Cacapon Resort State Park to take advantage of programs and other area interests. \n\n\n\nReserve lodging: \n\n\n\nBook Now
URL:https://wvstateparks.com/event/art-in-the-park-berkeley-springs-15/
LOCATION:Berkeley Springs State Park\, United States
END:VEVENT
END:VCALENDAR