BEGIN:VCALENDAR
VERSION:2.0
PRODID:-//West Virginia State Parks - ECPv6.15.17.1//NONSGML v1.0//EN
CALSCALE:GREGORIAN
METHOD:PUBLISH
X-WR-CALNAME:West Virginia State Parks
X-ORIGINAL-URL:https://wvstateparks.com
X-WR-CALDESC:Events for West Virginia State Parks
REFRESH-INTERVAL;VALUE=DURATION:PT1H
X-Robots-Tag:noindex
X-PUBLISHED-TTL:PT1H
BEGIN:VTIMEZONE
TZID:America/New_York
BEGIN:DAYLIGHT
TZOFFSETFROM:-0500
TZOFFSETTO:-0400
TZNAME:EDT
DTSTART:20220313T070000
END:DAYLIGHT
BEGIN:STANDARD
TZOFFSETFROM:-0400
TZOFFSETTO:-0500
TZNAME:EST
DTSTART:20221106T060000
END:STANDARD
BEGIN:DAYLIGHT
TZOFFSETFROM:-0500
TZOFFSETTO:-0400
TZNAME:EDT
DTSTART:20230312T070000
END:DAYLIGHT
BEGIN:STANDARD
TZOFFSETFROM:-0400
TZOFFSETTO:-0500
TZNAME:EST
DTSTART:20231105T060000
END:STANDARD
BEGIN:DAYLIGHT
TZOFFSETFROM:-0500
TZOFFSETTO:-0400
TZNAME:EDT
DTSTART:20240310T070000
END:DAYLIGHT
BEGIN:STANDARD
TZOFFSETFROM:-0400
TZOFFSETTO:-0500
TZNAME:EST
DTSTART:20241103T060000
END:STANDARD
END:VTIMEZONE
BEGIN:VEVENT
DTSTART;TZID=America/New_York:20230610T100000
DTEND;TZID=America/New_York:20230610T160000
DTSTAMP:20260419T153025
CREATED:20230209T182031Z
LAST-MODIFIED:20230209T182035Z
UID:26665-1686391200-1686412800@wvstateparks.com
SUMMARY:Appalachian Blacksmith Association Hammer-In: Prickett’s Fort
DESCRIPTION:Visit Prickett’s Fort State Park and watch some of the best blacksmiths in North Central West Virginia apply their skills.  There will be demonstrations throughout the day on many aspects of traditional and modern blacksmithing. Regular fort admission applies. \nThis program/presentation is from 10:00AM until 4:00PM on Saturday\, June 10\, 2023. \nIf you’re looking for a place to spend the night consider Tygart Lake State Park for lodge or cabin accommodations. \nFor more information about Prickett’s Fort State Park and Pricketts Fort Foundation\, call 304 363 3030 or visit the link included below.
URL:https://wvstateparks.com/event/appalachian-blacksmith-association-hammer-in-pricketts-fort/
LOCATION:Prickett’s Fort State Park\, United States
END:VEVENT
END:VCALENDAR