BEGIN:VCALENDAR
VERSION:2.0
PRODID:-//West Virginia State Parks - ECPv6.15.17.1//NONSGML v1.0//EN
CALSCALE:GREGORIAN
METHOD:PUBLISH
X-WR-CALNAME:West Virginia State Parks
X-ORIGINAL-URL:https://wvstateparks.com
X-WR-CALDESC:Events for West Virginia State Parks
REFRESH-INTERVAL;VALUE=DURATION:PT1H
X-Robots-Tag:noindex
X-PUBLISHED-TTL:PT1H
BEGIN:VTIMEZONE
TZID:America/New_York
BEGIN:DAYLIGHT
TZOFFSETFROM:-0500
TZOFFSETTO:-0400
TZNAME:EDT
DTSTART:20220313T070000
END:DAYLIGHT
BEGIN:STANDARD
TZOFFSETFROM:-0400
TZOFFSETTO:-0500
TZNAME:EST
DTSTART:20221106T060000
END:STANDARD
BEGIN:DAYLIGHT
TZOFFSETFROM:-0500
TZOFFSETTO:-0400
TZNAME:EDT
DTSTART:20230312T070000
END:DAYLIGHT
BEGIN:STANDARD
TZOFFSETFROM:-0400
TZOFFSETTO:-0500
TZNAME:EST
DTSTART:20231105T060000
END:STANDARD
BEGIN:DAYLIGHT
TZOFFSETFROM:-0500
TZOFFSETTO:-0400
TZNAME:EDT
DTSTART:20240310T070000
END:DAYLIGHT
BEGIN:STANDARD
TZOFFSETFROM:-0400
TZOFFSETTO:-0500
TZNAME:EST
DTSTART:20241103T060000
END:STANDARD
END:VTIMEZONE
BEGIN:VEVENT
DTSTART;TZID=America/New_York:20230729T083000
DTEND;TZID=America/New_York:20230729T220000
DTSTAMP:20260419T152738
CREATED:20221026T144638Z
LAST-MODIFIED:20221026T144638Z
UID:26579-1690619400-1690668000@wvstateparks.com
SUMMARY:A Glow Walk: Twin Falls
DESCRIPTION:All will be aglow this summer evening at Twin Falls Resort State Park. The magic starts at 8:30 p.m. \nThe Glow Walk begins and meets at the park amphitheater. Arrival for you to park your vehicle should occur by 8:00 p.m. but not before 7:30 p.m. We’ll get a glow stick to each person (as supplies last) and get prepared for this go-glow evening. \nThe glow walk starts at 8:30 p.m. and will go from the amphitheater area toward the campground and return. Getting headlights off and our eyes adjusting to the evening is key to great fun. Please consider bringing your own glow sticks or bracelets\, to make it more festive. Dimmer style flashlights with red cellophane over the lens can also be useful. \nOn July 29th the moon is more than 82% illuminated but not yet a Full Moon. \nThis is a dusk and after dark activity. It is magical as night falls and people are walking and talking together by some moonlight. Children should be accompanied by a responsible adult. The glow walk is open to all ages and free to attend. \nFor more information\, contact Tammy Cooper 304-294-4000\, twinfallsresort@wv.gov. \nReserve lodging online: \nBook Now
URL:https://wvstateparks.com/event/a-glow-walk-twin-falls-2/
LOCATION:Twin Falls Resort State Park\, United States
END:VEVENT
END:VCALENDAR