BEGIN:VCALENDAR
VERSION:2.0
PRODID:-//West Virginia State Parks - ECPv6.15.17.1//NONSGML v1.0//EN
CALSCALE:GREGORIAN
METHOD:PUBLISH
X-WR-CALNAME:West Virginia State Parks
X-ORIGINAL-URL:https://wvstateparks.com
X-WR-CALDESC:Events for West Virginia State Parks
REFRESH-INTERVAL;VALUE=DURATION:PT1H
X-Robots-Tag:noindex
X-PUBLISHED-TTL:PT1H
BEGIN:VTIMEZONE
TZID:America/New_York
BEGIN:DAYLIGHT
TZOFFSETFROM:-0500
TZOFFSETTO:-0400
TZNAME:EDT
DTSTART:20220313T070000
END:DAYLIGHT
BEGIN:STANDARD
TZOFFSETFROM:-0400
TZOFFSETTO:-0500
TZNAME:EST
DTSTART:20221106T060000
END:STANDARD
BEGIN:DAYLIGHT
TZOFFSETFROM:-0500
TZOFFSETTO:-0400
TZNAME:EDT
DTSTART:20230312T070000
END:DAYLIGHT
BEGIN:STANDARD
TZOFFSETFROM:-0400
TZOFFSETTO:-0500
TZNAME:EST
DTSTART:20231105T060000
END:STANDARD
BEGIN:DAYLIGHT
TZOFFSETFROM:-0500
TZOFFSETTO:-0400
TZNAME:EDT
DTSTART:20240310T070000
END:DAYLIGHT
BEGIN:STANDARD
TZOFFSETFROM:-0400
TZOFFSETTO:-0500
TZNAME:EST
DTSTART:20241103T060000
END:STANDARD
END:VTIMEZONE
BEGIN:VEVENT
DTSTART;TZID=America/New_York:20230529T183000
DTEND;TZID=America/New_York:20230529T213000
DTSTAMP:20260419T153218
CREATED:20230307T174556Z
LAST-MODIFIED:20230503T005612Z
UID:26721-1685385000-1685395800@wvstateparks.com
SUMMARY:George Dorne & Trailer Park Poets Concert: Twin Falls
DESCRIPTION:You will find live music in the courtyard at Twin Falls Resort State Park on May 29\, 2022. From 6:30 – 9:30 p.m.  George Dorne & Trailer Park Poets will be performing. This is a free concert and open to the public. \nGeorge Dorne & Trailer Park Poets puts a southern spin on songs that vary from country to soft rock. \nCarry out beverages and food service by Twin Falls Restaurant is available for purchase. Grab some food and come on out to the courtyard. Enjoy the evening at Twin Falls! \nReserve lodging: \nBook Now
URL:https://wvstateparks.com/event/2-of-a-kind-concert-twin-falls-3/
LOCATION:Twin Falls Resort State Park\, United States
END:VEVENT
END:VCALENDAR