BEGIN:VCALENDAR
VERSION:2.0
PRODID:-//West Virginia State Parks - ECPv6.15.17.1//NONSGML v1.0//EN
CALSCALE:GREGORIAN
METHOD:PUBLISH
X-WR-CALNAME:West Virginia State Parks
X-ORIGINAL-URL:https://wvstateparks.com
X-WR-CALDESC:Events for West Virginia State Parks
REFRESH-INTERVAL;VALUE=DURATION:PT1H
X-Robots-Tag:noindex
X-PUBLISHED-TTL:PT1H
BEGIN:VTIMEZONE
TZID:America/New_York
BEGIN:DAYLIGHT
TZOFFSETFROM:-0500
TZOFFSETTO:-0400
TZNAME:EDT
DTSTART:20220313T070000
END:DAYLIGHT
BEGIN:STANDARD
TZOFFSETFROM:-0400
TZOFFSETTO:-0500
TZNAME:EST
DTSTART:20221106T060000
END:STANDARD
BEGIN:DAYLIGHT
TZOFFSETFROM:-0500
TZOFFSETTO:-0400
TZNAME:EDT
DTSTART:20230312T070000
END:DAYLIGHT
BEGIN:STANDARD
TZOFFSETFROM:-0400
TZOFFSETTO:-0500
TZNAME:EST
DTSTART:20231105T060000
END:STANDARD
BEGIN:DAYLIGHT
TZOFFSETFROM:-0500
TZOFFSETTO:-0400
TZNAME:EDT
DTSTART:20240310T070000
END:DAYLIGHT
BEGIN:STANDARD
TZOFFSETFROM:-0400
TZOFFSETTO:-0500
TZNAME:EST
DTSTART:20241103T060000
END:STANDARD
END:VTIMEZONE
BEGIN:VEVENT
DTSTART;TZID=America/New_York:20230704T190000
DTEND;TZID=America/New_York:20230704T210000
DTSTAMP:20260419T115612
CREATED:20230307T172617Z
LAST-MODIFIED:20230614T190835Z
UID:26716-1688497200-1688504400@wvstateparks.com
SUMMARY:George Dome & 2 of a Kind Concert: Twin Falls
DESCRIPTION:You will find live music in the courtyard at Twin Falls Resort State Park Lodge on Tuesday\, July 4\, 2023\,  from 7:00 – 9:00 PM.  ‘2 of a Kind’ will be performing acoustic music. This is a free concert and open to the public. \n\n\n\n2 of a Kind is an acoustic performance.  Songs vary from country to soft rock and an awesome evening of live music. \n\n\n\nCarry out beverages and food service by Twin Falls Restaurant is available for purchase.  Grab some food and come on out to the courtyard. Enjoy the evening at Twin Falls! \n\n\n\nReserve lodging: \n\n\n\nBook Now
URL:https://wvstateparks.com/event/2-of-a-kind-concert-twin-falls-2/
LOCATION:Twin Falls Resort State Park\, United States
END:VEVENT
END:VCALENDAR